BEGIN:VCALENDAR
VERSION:2.0
PRODID:-//ChamberMaster//Event Calendar 2.0//EN
METHOD:PUBLISH
X-PUBLISHED-TTL:P3D
REFRESH-INTERVAL:P3D
CALSCALE:GREGORIAN
BEGIN:VEVENT
DTSTART:20170216T200000Z
DTEND:20170216T210000Z
X-MICROSOFT-CDO-ALLDAYEVENT:FALSE
SUMMARY:Executive Chef Series\, Valentine’s Day Delight
DESCRIPTION:Executive Chef Warren DeWolfe will present a sampling of delectable treats on Thursday\, Feb. 16\, 2017 at 2 p.m. during The Holmstad's Executive Chef Series: Valentine's Day Delight. Area seniors are invited to attend the free afternoon event\, where they can visit with residents\, ask questions about life at the faith-based retirement community\, and take a tour of the campus. Space is limited and registration is required by calling 877-226-7310 or visiting www.TheHolmstad.org. The Holmstad is located at 700 W. Fabyan Parkway\, Batavia.
X-ALT-DESC;FMTTYPE=text/html:Executive Chef Warren DeWolfe will present a sampling of delectable treats on Thursday\, Feb. 16\, 2017 at 2 p.m. during The Holmstad&rsquo\;s Executive Chef Series: Valentine&rsquo\;s Day Delight. Area seniors are invited to attend the free afternoon event\, where they can visit with residents\, ask questions about life at the faith-based retirement community\, and take a tour of the campus. Space is limited and registration is required by calling 877-226-7310 or visiting www.TheHolmstad.org. The Holmstad is located at 700 W. Fabyan Parkway\, Batavia.
LOCATION:The Holmstad\, 700 W. Fabyan Parkway\, Batavia
UID:e.1902.6552
SEQUENCE:3
DTSTAMP:20260425T163031Z
URL:https://business.bataviachamber.org/events/details/executive-chef-series-valentine-s-day-delight-6552
END:VEVENT

END:VCALENDAR
