BEGIN:VCALENDAR
VERSION:2.0
PRODID:-//ChamberMaster//Event Calendar 2.0//EN
METHOD:PUBLISH
X-PUBLISHED-TTL:P3D
REFRESH-INTERVAL:P3D
CALSCALE:GREGORIAN
BEGIN:VEVENT
DTSTART:20090217T060000Z
DTEND:20090217T060000Z
X-MICROSOFT-CDO-ALLDAYEVENT:FALSE
SUMMARY:Evidence-Based Investing Seminar
DESCRIPTION:Savant invites you to attend an educational seminar led by Dr. Brian J. Knabe and Brian P. Conroy. We will explore how investors can apply key lessons learned from the evidence-based scientific framework that has transformed medicine in recent decades. Attendees will learn about compelling evidenceand accompanying investment strategies that they can utilize in their quest to achieve higher returns\, less tax\, and decreased risk.
X-ALT-DESC;FMTTYPE=text/html:Savant invites you to attend an educational seminar led by Dr. Brian J. Knabe and Brian P. Conroy. We will explore how investors can apply key lessons learned from the evidence-based scientific framework that has transformed medicine in recent decades. Attendees will learn about compelling evidenceand accompanying investment strategies that they can utilize in their quest to achieve higher returns\, less tax\, and decreased risk.
LOCATION:Riverside Receptions & Conference Center
UID:e.1902.843
SEQUENCE:3
DTSTAMP:20260425T111208Z
URL:https://business.bataviachamber.org/events/details/evidence-based-investing-seminar-02-17-2009-843
END:VEVENT

END:VCALENDAR
