BEGIN:VCALENDAR
VERSION:2.0
PRODID:-//ChamberMaster//Event Calendar 2.0//EN
METHOD:PUBLISH
X-PUBLISHED-TTL:P3D
REFRESH-INTERVAL:P3D
CALSCALE:GREGORIAN
BEGIN:VEVENT
DTSTART:20081016T133000Z
DTEND:20081016T170000Z
X-MICROSOFT-CDO-ALLDAYEVENT:FALSE
SUMMARY:Ethical Decision-Making in Dementia Care
DESCRIPTION:Professionals working with older adults frequently encounter difficult situations for which there is no easy solution. When an older adult has dementia\, such situations are even more difficult. Attend this session to learn three models of ethical decision-making and apply them to real-life case studies. By the end of the presentation\, participants will be able to identify some of the ethical challenges faced by professionals working in the field of dementia care\, describe three frameworks for ethical decision-making and utilize these frameworks in clinical practice. Presented by: Melanie Chavin\, MSVice President\, Program ServicesAlzheimer’s Association-Greater Illinois ChapterCost: FreeCE Credit: 3 credit hours for licensed social workers (LSW)\, licensedclinical social workers (LCSW) and certified casemanagers (CCM) REGISTRATION IS REQUIRED
X-ALT-DESC;FMTTYPE=text/html:<P class=MsoNormal style="MARGIN: 0in 0in 0pt\; FONT-FAMILY: Arial\; mso-layout-grid-align: none" align=left><SPAN style="FONT-SIZE: 14pt\; FONT-FAMILY: TimesNewRomanPSMT\; mso-bidi-font-family: TimesNewRomanPSMT"><FONT face="Times New Roman">Professionals working with older adults frequently encounter </FONT></SPAN><SPAN style="FONT-SIZE: 14pt\; FONT-FAMILY: TimesNewRomanPSMT\; mso-bidi-font-family: TimesNewRomanPSMT"><FONT face="Times New Roman">difficult situations for which there is no easy solution. When </FONT></SPAN><SPAN style="FONT-SIZE: 14pt\; FONT-FAMILY: TimesNewRomanPSMT\; mso-bidi-font-family: TimesNewRomanPSMT"><FONT face="Times New Roman">an older adult has dementia\, such situations are even more </FONT></SPAN><SPAN style="FONT-SIZE: 14pt\; FONT-FAMILY: TimesNewRomanPSMT\; mso-bidi-font-family: TimesNewRomanPSMT"><FONT face="Times New Roman">difficult.</FONT></SPAN></P><P class=MsoNormal style="MARGIN: 0in 0in 0pt\; FONT-FAMILY: Arial\; mso-layout-grid-align: none" align=left><SPAN style="FONT-SIZE: 14pt\; FONT-FAMILY: TimesNewRomanPSMT\; mso-bidi-font-family: TimesNewRomanPSMT"><FONT face="Times New Roman"><?xml:namespace prefix = o ns = "urn:schemas-microsoft-com:office:office" /><o:p></o:p></FONT></SPAN>&nbsp\;</P><P class=MsoNormal style="MARGIN: 0in 0in 0pt\; FONT-FAMILY: Arial\; mso-layout-grid-align: none" align=left><SPAN style="FONT-SIZE: 14pt\; FONT-FAMILY: TimesNewRomanPSMT\; mso-bidi-font-family: TimesNewRomanPSMT"><FONT face="Times New Roman">Attend this session to learn three models of ethical </FONT></SPAN><SPAN style="FONT-SIZE: 14pt\; FONT-FAMILY: TimesNewRomanPSMT\; mso-bidi-font-family: TimesNewRomanPSMT"><FONT face="Times New Roman">decision-making and apply them to real-life case studies. </FONT></SPAN><SPAN style="FONT-SIZE: 14pt\; FONT-FAMILY: TimesNewRomanPSMT\; mso-bidi-font-family: TimesNewRomanPSMT"><FONT face="Times New Roman">By the end of the presentation\, participants will be able to </FONT></SPAN><SPAN style="FONT-SIZE: 14pt\; FONT-FAMILY: TimesNewRomanPSMT\; mso-bidi-font-family: TimesNewRomanPSMT"><FONT face="Times New Roman">identify some of the ethical challenges faced by professionals </FONT></SPAN><SPAN style="FONT-SIZE: 14pt\; FONT-FAMILY: TimesNewRomanPSMT\; mso-bidi-font-family: TimesNewRomanPSMT"><FONT face="Times New Roman">working in the field of dementia care\, describe three </FONT></SPAN><SPAN style="FONT-SIZE: 14pt\; FONT-FAMILY: TimesNewRomanPSMT\; mso-bidi-font-family: TimesNewRomanPSMT"><FONT face="Times New Roman">frameworks for ethical decision-making and utilize these </FONT></SPAN><SPAN style="FONT-SIZE: 14pt\; FONT-FAMILY: TimesNewRomanPSMT\; mso-bidi-font-family: TimesNewRomanPSMT"><FONT face="Times New Roman">frameworks in clinical practice.</FONT></SPAN></P><P class=MsoNormal style="MARGIN: 0in 0in 0pt\; FONT-FAMILY: Arial\; mso-layout-grid-align: none" align=left><SPAN style="FONT-SIZE: 14pt\; FONT-FAMILY: TimesNewRomanPSMT\; mso-bidi-font-family: TimesNewRomanPSMT"><FONT face="Times New Roman"><o:p></o:p></FONT></SPAN>&nbsp\;</P><P class=MsoNormal style="MARGIN: 0in 0in 0pt\; FONT-FAMILY: Arial\; mso-layout-grid-align: none" align=left><FONT face="Times New Roman"><B><SPAN style="FONT-SIZE: 14pt\; FONT-FAMILY: TimesNewRomanPS-BoldMT\; mso-bidi-font-family: TimesNewRomanPS-BoldMT">Presented by: </SPAN></B><SPAN style="FONT-SIZE: 14pt\; FONT-FAMILY: TimesNewRomanPSMT\; mso-bidi-font-family: TimesNewRomanPSMT">Melanie Chavin\, MS<o:p></o:p></SPAN></FONT></P><P class=MsoNormal style="MARGIN: 0in 0in 0pt\; FONT-FAMILY: Arial\; mso-layout-grid-align: none" align=left><SPAN style="FONT-SIZE: 14pt\; FONT-FAMILY: TimesNewRomanPSMT\; mso-bidi-font-family: TimesNewRomanPSMT"><FONT face="Times New Roman">Vice President\, Program Services<o:p></o:p></FONT></SPAN></P><P class=MsoNormal style="MARGIN: 0in 0in 0pt\; FONT-FAMILY: Arial\; mso-layout-grid-align: none" align=left><SPAN style="FONT-SIZE: 14pt\; FONT-FAMILY: TimesNewRomanPSMT\; mso-bidi-font-family: TimesNewRomanPSMT"><FONT face="Times New Roman">Alzheimer’s Association-Greater Illinois Chapter<o:p></o:p></FONT></SPAN></P><P class=MsoNormal style="MARGIN: 0in 0in 0pt\; FONT-FAMILY: Arial\; mso-layout-grid-align: none" align=left><FONT face="Times New Roman"><B><SPAN style="FONT-SIZE: 14pt\; FONT-FAMILY: TimesNewRomanPS-BoldMT\; mso-bidi-font-family: TimesNewRomanPS-BoldMT">Cost: </SPAN></B><SPAN style="FONT-SIZE: 14pt\; FONT-FAMILY: TimesNewRomanPSMT\; mso-bidi-font-family: TimesNewRomanPSMT">Free<o:p></o:p></SPAN></FONT></P><P class=MsoNormal style="MARGIN: 0in 0in 0pt\; FONT-FAMILY: Arial\; mso-layout-grid-align: none" align=left><FONT face="Times New Roman"><B><SPAN style="FONT-SIZE: 14pt\; FONT-FAMILY: TimesNewRomanPS-BoldMT\; mso-bidi-font-family: TimesNewRomanPS-BoldMT">CE Credit: </SPAN></B><SPAN style="FONT-SIZE: 14pt\; FONT-FAMILY: TimesNewRomanPSMT\; mso-bidi-font-family: TimesNewRomanPSMT">3 credit hours for licensed social workers (LSW)\, licensed<o:p></o:p></SPAN></FONT></P><P class=MsoNormal style="MARGIN: 0in 0in 0pt\; FONT-FAMILY: Arial\; mso-layout-grid-align: none" align=left><SPAN style="FONT-SIZE: 14pt\; FONT-FAMILY: TimesNewRomanPSMT\; mso-bidi-font-family: TimesNewRomanPSMT"><FONT face="Times New Roman">clinical social workers (LCSW) and certified case<o:p></o:p></FONT></SPAN></P><P class=MsoNormal style="MARGIN: 0in 0in 0pt\; FONT-FAMILY: Arial\; mso-layout-grid-align: none" align=left><SPAN style="FONT-SIZE: 14pt\; FONT-FAMILY: TimesNewRomanPSMT\; mso-bidi-font-family: TimesNewRomanPSMT"><FONT face="Times New Roman">managers (CCM)</FONT></SPAN></P><P class=MsoNormal style="MARGIN: 0in 0in 0pt\; FONT-FAMILY: Arial\; mso-layout-grid-align: none"><SPAN style="FONT-SIZE: 14pt\; FONT-FAMILY: TimesNewRomanPSMT\; mso-bidi-font-family: TimesNewRomanPSMT"><FONT face="Times New Roman"></FONT></SPAN>&nbsp\;</P><P class=MsoNormal style="MARGIN: 0in 0in 0pt\; FONT-FAMILY: Arial\; mso-layout-grid-align: none" align=center><SPAN style="FONT-SIZE: 14pt\; FONT-FAMILY: TimesNewRomanPSMT\; mso-bidi-font-family: TimesNewRomanPSMT"><FONT face="Times New Roman" color=#ff0000><STRONG>REGISTRATION IS REQUIRED</STRONG></FONT></SPAN></P>
LOCATION:Alden Gardens of Waterford
UID:e.1902.1589
SEQUENCE:3
DTSTAMP:20260421T230307Z
URL:https://business.bataviachamber.org/events/details/ethical-decision-making-in-dementia-care-10-16-2008-1589
END:VEVENT

END:VCALENDAR
