BEGIN:VCALENDAR
VERSION:2.0
PRODID:-//ChamberMaster//Event Calendar 2.0//EN
METHOD:PUBLISH
X-PUBLISHED-TTL:P3D
REFRESH-INTERVAL:P3D
CALSCALE:GREGORIAN
BEGIN:VEVENT
DTSTART:20201002T170000Z
DTEND:20201002T180000Z
X-MICROSOFT-CDO-ALLDAYEVENT:FALSE
SUMMARY:Enjoy Aurora Discounts Program Informational Webinar for Businesses
DESCRIPTION:Join us for an info session to learn how you can get listed in the Enjoy Aurora Discounts program\, free of charge.\n\n\n\n\n\n\n\nAbout this Event\n\n\n\nThe Aurora Area Convention & Visitors Bureau is pleased to announce its partnership with Fox Valley Deals\, offering businesses in the ten communities of our service area free access to the Enjoy Aurora Discounts program.\n\nThe Enjoy Aurora Discounts program connects visitors and locals with discounts on attractions\, shopping\, dining\, and travel related services. There is no minimum discount offer to be included\, and art will be produced for you if you don't have your own coupon created.\n\nConsumers can access the program simply by texting EnjoyAurora to 223344. Discounts are redeemed via phone at the point of purchase.\n\nThis no-cost program is supported by promotion within the Aurora Area Go Guide\, the official visitors publication of the Aurora Area\, as well as our social media channels and website.\n\nJoin us for a webinar to find out how you can get your business listed.\n\n\n\nWebinars for businesses interested in participating will be available on: \n\n \n\n\n	Thursday\, September 24th at 10:00 AM\n	Monday\, September 28th at 2:00 PM\n	Wednesday\, September 30th at 10:00 AM\n	Friday\, October 2nd at 12:00 PM\n\nRSVP links are included below   these link out to EventBrite listings for each date\, where you can sign up for the date and time that works best for you.
X-ALT-DESC;FMTTYPE=text/html:<div class="g-group l-lg-mar-bot-6 l-md-mar-bot-4  " style="margin: 0px 0px 30px\; padding: 0px\; font-size: 0px\; letter-spacing: 0px\; color: rgb(57\, 54\, 79)\; font-family: &quot\;Neue Plak&quot\;\, -apple-system\, BlinkMacSystemFont\, Roboto\, &quot\;Helvetica Neue&quot\;\, Helvetica\, Tahoma\, Arial\, sans-serif\; background-color: rgb(255\, 255\, 255)\;">\n<div class="g-cell g-cell-10-12 g-cell-md-1-1" style="margin: 0px\; padding: 0px 15px\; width: 559.997px\; box-sizing: border-box\; display: inline-block\; overflow: hidden\; vertical-align: top\; letter-spacing: 0.5px\; font-size: 0.933333rem\; line-height: 1.25rem\;">\n<div class="has-user-generated-content js-d-read-more read-more js-read-more read-more--medium-down read-more--expanded" data-xd-wired="read-more" dorsal-guid="a5872446-5383-8b36-a3f4-1191ec817a42" style="margin: 0px\; padding: 0px\;">\n<div class="js-xd-read-more-toggle-view read-more__toggle-view" style="margin: 0px\; padding: 0px\; overflow: hidden\; position: relative\; overflow-wrap: break-word\;">\n<div class="js-xd-read-more-contents text-body-medium" data-automation="listing-event-description" style="margin: 0px\; padding: 0px\; font-size: 0.933333rem\; line-height: 1.25rem\;"><span style="font-size:14px\;"><span style="font-family:arial\;"><span style="color:#000000\;"><span style="font-weight: 700\; padding-top: 0px\;">Join us for an info session to learn how you can get listed in the Enjoy Aurora Discounts program\, free of charge.</span></span></span></span></div>\n</div>\n</div>\n</div>\n</div>\n\n<div class="g-group l-mar-bot-6 l-sm-mar-bot-4" style="margin: 0px 0px 30px\; padding: 0px\; font-size: 0px\; letter-spacing: 0px\; color: rgb(57\, 54\, 79)\; font-family: &quot\;Neue Plak&quot\;\, -apple-system\, BlinkMacSystemFont\, Roboto\, &quot\;Helvetica Neue&quot\;\, Helvetica\, Tahoma\, Arial\, sans-serif\; background-color: rgb(255\, 255\, 255)\;">\n<div class="structured-content g-cell g-cell-10-12 g-cell-md-1-1" style="margin: 0px\; padding: 0px 15px\; width: 559.997px\; box-sizing: border-box\; display: inline-block\; overflow: hidden\; vertical-align: top\; letter-spacing: 0.5px\; font-size: 0.933333rem\; line-height: 1.25rem\;">\n<h2 class="text-body-large hide-small" style="margin: 0px -0.25px 0px 0px\; padding: 0px\; font-size: 1.2rem\; line-height: 1.5rem\; letter-spacing: 0.25px\;"><span style="font-size:14px\;"><span style="font-family:arial\;"><span style="color:#000000\;">About this Event</span></span></span></h2>\n\n<div class="has-user-generated-content" data-automation="about-this-event-sc" style="margin: 0px\; padding: 0px\;">\n<div class="structured-content-rich-text structured-content__module l-align-left l-mar-vert-6 l-sm-mar-vert-4 text-body-medium" style="margin: 30px 0px\; padding: 0px\; font-size: 0.933333rem\; line-height: 1.25rem\; text-rendering: optimizelegibility\;">\n<p style="margin: 0px\; padding: 0px\; color: rgb(111\, 114\, 135)\; font-size: 16px\; line-height: 1.5rem\;"><span style="font-size:14px\;"><span style="font-family:arial\;"><span style="color:#000000\;">The Aurora Area Convention &amp\; Visitors Bureau is pleased to announce its partnership with Fox Valley Deals\, offering businesses in the ten communities of our service area free access to the Enjoy Aurora Discounts program.</span></span></span></p>\n\n<p style="margin: 0px\; padding: 10px 0px 0px\; color: rgb(111\, 114\, 135)\; font-size: 16px\; line-height: 1.5rem\;"><span style="font-size:14px\;"><span style="font-family:arial\;"><span style="color:#000000\;">The Enjoy Aurora Discounts program connects visitors and locals with discounts on attractions\, shopping\, dining\, and travel related services. There is no minimum discount offer to be included\, and art will be produced for you if you don&#39\;t have your own coupon created.</span></span></span></p>\n\n<p style="margin: 0px\; padding: 10px 0px 0px\; color: rgb(111\, 114\, 135)\; font-size: 16px\; line-height: 1.5rem\;"><span style="font-size:14px\;"><span style="font-family:arial\;"><span style="color:#000000\;">Consumers can access the program simply by texting EnjoyAurora to 223344. Discounts are redeemed via phone at the point of purchase.</span></span></span></p>\n\n<p style="margin: 0px\; padding: 10px 0px 0px\; color: rgb(111\, 114\, 135)\; font-size: 16px\; line-height: 1.5rem\;"><span style="font-size:14px\;"><span style="font-family:arial\;"><span style="color:#000000\;">This no-cost program is supported by promotion within the Aurora Area Go Guide\, the official visitors publication of the Aurora Area\, as well as our social media channels and website.</span></span></span></p>\n\n<p style="margin: 0px\; padding: 10px 0px 0px\; color: rgb(111\, 114\, 135)\; font-size: 16px\; line-height: 1.5rem\;"><span style="font-size:14px\;"><span style="font-family:arial\;"><span style="color:#000000\;"><strong>Join us for a webinar to find out how you can get your business listed.</strong><br />\n<br />\nWebinars for businesses interested in participating will be available on:&nbsp\;<br />\n&nbsp\;</span></span></span></p>\n\n<ul>\n	<li><a href="https://www.eventbrite.com/e/aurora-area-discounts-program-webinar-tickets-121078839067" target="_blank"><span style="font-size:14px\;"><span style="font-family:arial\;"><span style="color:#000000\;">Thursday\, September 24th at 10:00 AM</span></span></span></a></li>\n	<li><a href="https://www.eventbrite.com/e/aurora-area-discounts-program-webinar-tickets-121078839067" target="_blank"><span style="font-size:14px\;"><span style="font-family:arial\;"><span style="color:#000000\;">Monday\, September 28th at 2:00 PM</span></span></span></a></li>\n	<li><a href="https://www.eventbrite.com/e/aurora-area-discounts-program-webinar-tickets-121078839067" target="_blank"><span style="font-size:14px\;"><span style="font-family:arial\;"><span style="color:#000000\;">Wednesday\, September 30th at 10:00 AM</span></span></span></a></li>\n	<li><a href="https://www.eventbrite.com/e/aurora-area-discounts-program-webinar-tickets-121078839067" target="_blank"><span style="font-size:14px\;"><span style="font-family:arial\;"><span style="color:#000000\;">Friday\, October 2nd at 12:00 PM</span></span></span></a></li>\n</ul>\n<span style="font-size:14px\;"><span style="font-family:arial\;"><span style="color:#000000\;">RSVP links are included below &mdash\; these link out to EventBrite listings for each date\, where you can sign up for the date and time that works best for you.&nbsp\;</span></span></span>\n\n<p style="margin: 0px\; padding: 10px 0px 0px\; color: rgb(111\, 114\, 135)\; font-size: 16px\; line-height: 1.5rem\;">&nbsp\;</p>\n</div>\n</div>\n</div>\n</div>\n
LOCATION:Webinar
UID:e.1902.12393
SEQUENCE:3
DTSTAMP:20260422T095405Z
URL:https://business.bataviachamber.org/events/details/enjoy-aurora-discounts-program-informational-webinar-for-businesses-12393
END:VEVENT

END:VCALENDAR
