BEGIN:VCALENDAR
VERSION:2.0
PRODID:-//ChamberMaster//Event Calendar 2.0//EN
METHOD:PUBLISH
X-PUBLISHED-TTL:P3D
REFRESH-INTERVAL:P3D
CALSCALE:GREGORIAN
BEGIN:VEVENT
DTSTART:20110806T140000Z
DTEND:20110806T170000Z
X-MICROSOFT-CDO-ALLDAYEVENT:FALSE
SUMMARY:Elliff Dental Grand Opening & Ribbon Cutting
DESCRIPTION:Be sure to join Drs. Andrew and Laura Elliff for the Grand Opening and Ribbon Cutting at their new offices right in between Chamber members Four Bean's Coffeehouse and Mark Murphy's State Farm Insurance Agency! They plan to have refreshments and prizes to give away. Stop by for a coupon from Barb Bevil and Mark Murphy!
X-ALT-DESC;FMTTYPE=text/html:<P align=left><FONT color=#000080 size=4>Be sure to join Drs. Andrew and Laura Elliff for the Grand Opening and Ribbon Cutting at their new offices right in between Chamber members Four Bean's Coffeehouse and Mark Murphy's State Farm Insurance Agency! They plan to have refreshments and prizes to give away. Stop by for a coupon from Barb Bevil and Mark Murphy!</FONT></P>
LOCATION:Elliff Dental - Opening July 25!
UID:e.1902.1745
SEQUENCE:3
DTSTAMP:20260419T121009Z
URL:https://business.bataviachamber.org/events/details/elliff-dental-grand-opening-ribbon-cutting-08-06-2011-1745
END:VEVENT

END:VCALENDAR
