BEGIN:VCALENDAR
VERSION:2.0
PRODID:-//ChamberMaster//Event Calendar 2.0//EN
METHOD:PUBLISH
X-PUBLISHED-TTL:P3D
REFRESH-INTERVAL:P3D
CALSCALE:GREGORIAN
BEGIN:VEVENT
DTSTART:20080823T213000Z
DTEND:20080823T233000Z
X-MICROSOFT-CDO-ALLDAYEVENT:FALSE
SUMMARY:Elderday Center Porkchop & Chicken Dinner
DESCRIPTION:Elderday Center will hold a benefit Barbeque Porkchop and Chicken Dinner on Saturday\, August 23. This dinner will be catered by 5-B's and will include baked beans\, coleslaw\, roll\, butter\, applesauce\, coffe or lemonade. You may eat in or carry out--wlak ins are welcome.Tickets are $10 for dinner or $4 for a hot dog dinner. If you have questions\, contact Micki Miller at 630-761-9750.
X-ALT-DESC;FMTTYPE=text/html:Elderday Center will hold a benefit Barbeque Porkchop and Chicken Dinner on Saturday\, August 23. This dinner will be catered by 5-B's and will include baked beans\, coleslaw\, roll\, butter\, applesauce\, coffe or lemonade. You may eat in or carry out--wlak ins are welcome.Tickets are $10 for dinner or $4 for a hot dog dinner. If you have questions\, contact Micki Miller at 630-761-9750.
LOCATION:Bethany Ministry Center
UID:e.1902.1570
SEQUENCE:3
DTSTAMP:20260422T023617Z
URL:https://business.bataviachamber.org/events/details/elderday-center-porkchop-chicken-dinner-08-23-2008-1570
END:VEVENT

END:VCALENDAR
