BEGIN:VCALENDAR
VERSION:2.0
PRODID:-//ChamberMaster//Event Calendar 2.0//EN
METHOD:PUBLISH
X-PUBLISHED-TTL:P3D
REFRESH-INTERVAL:P3D
CALSCALE:GREGORIAN
BEGIN:VEVENT
DTSTART:20090321T050000Z
DTEND:20090321T050000Z
X-MICROSOFT-CDO-ALLDAYEVENT:FALSE
SUMMARY:Elderday Center Benefit Fashion Show
DESCRIPTION:Spring into Fashion is the theme for the Fashion Show and luncheon presented by The Welcome Club of the Fox Valley to benefit Elderday Center. The Fashion Show and luncheon is scheduled for Saturday\,March 21\, 2009 at 11:30 a.m. at the Lincoln Inn Banquets in Batavia. The ticket price is $35 and monies raised will be donated to Elderday Center. Call Micki Miller for tickets and more informationat (630) 761-9750.
X-ALT-DESC;FMTTYPE=text/html:Spring into Fashion is the theme for the Fashion Show and luncheon presented by The Welcome Club of the Fox Valley to benefit Elderday Center. The Fashion Show and luncheon is scheduled for Saturday\,March 21\, 2009 at 11:30 a.m. at the Lincoln Inn Banquets in Batavia. The ticket price is $35 and monies raised will be donated to Elderday Center. Call Micki Miller for tickets and more informationat (630) 761-9750.
LOCATION:Lincoln Inn Banquets
UID:e.1902.861
SEQUENCE:3
DTSTAMP:20260421T144316Z
URL:https://business.bataviachamber.org/events/details/elderday-center-benefit-fashion-show-03-21-2009-861
END:VEVENT

END:VCALENDAR
