BEGIN:VCALENDAR
VERSION:2.0
PRODID:-//ChamberMaster//Event Calendar 2.0//EN
METHOD:PUBLISH
X-PUBLISHED-TTL:P3D
REFRESH-INTERVAL:P3D
CALSCALE:GREGORIAN
BEGIN:VEVENT
DTSTART:20100228T060000Z
DTEND:20100228T060000Z
X-MICROSOFT-CDO-ALLDAYEVENT:FALSE
SUMMARY:Eighth Annual Lincoln Dinner Theater
DESCRIPTION:Explore the years of Mary Lincoln's widowhood at the eighth annual Lincoln Dinner Theater. The program will summarize Mary's marriage to Lincoln and the traumatic years of the Civic War\, but it will primarily focus on the period of her life after the assassination. The audience will learn about herinsanity trial and subsequent hospitalization at Bellevue Sanitarium in Batavia. The play is writtenand performed by noted Lincoln presenter Donna Daniels of Wheaton. Tickets are $35 for the performance and buffet dinner and can be purchased at the Park District Civic Center\, Eastside Community Center or the Batavia Depot Museum.
X-ALT-DESC;FMTTYPE=text/html:Explore the years of Mary Lincoln's widowhood at the eighth annual Lincoln Dinner Theater. The program will summarize Mary's marriage to Lincoln and the traumatic years of the Civic War\, but it will primarily focus on the period of her life after the assassination. The audience will learn about herinsanity trial and subsequent hospitalization at Bellevue Sanitarium in Batavia. The play is writtenand performed by noted Lincoln presenter Donna Daniels of Wheaton. Tickets are $35 for the performance and buffet dinner and can be purchased at the Park District Civic Center\, Eastside Community Center or the Batavia Depot Museum.
LOCATION:Lincoln Inn Restaurant
UID:e.1902.1102
SEQUENCE:3
DTSTAMP:20260420T175412Z
URL:https://business.bataviachamber.org/events/details/eighth-annual-lincoln-dinner-theater-02-28-2010-1102
END:VEVENT

END:VCALENDAR
