BEGIN:VCALENDAR
VERSION:2.0
PRODID:-//ChamberMaster//Event Calendar 2.0//EN
METHOD:PUBLISH
X-PUBLISHED-TTL:P3D
REFRESH-INTERVAL:P3D
CALSCALE:GREGORIAN
BEGIN:VEVENT
DTSTART:20110223T011500Z
DTEND:20110223T030000Z
X-MICROSOFT-CDO-ALLDAYEVENT:FALSE
SUMMARY:Eggs & Issues with Congressman Randy Hultgren
DESCRIPTION:Join the Batavia & Geneva Chambers\, and Batavia MainStreet for an Eggs & Issues Breakfast withCongressman Randy HultgrenThe last historic election brought a Republican majority back to the U.S. House of Representatives. Join us on Tuesday\, February 22 to hear from an important member of the Freshman Class. Randy Hultgren will give us a brief update on how Washington might change as a result of the change in the balance of power.If you care about the future\, this is an event you should not miss!The Congressman must leave at 8:30 so we will begin with breakfast at 7:15. Please come and register early!To register\, sign up here on the Chamber website\, call the Chamber at 630-879-7134 or email info@bataviachamber.org.Please register by Friday\, February 18.
X-ALT-DESC;FMTTYPE=text/html:<P align=center><FONT face=Arial color=#0000ff size=4>Join the <FONT color=#800000>Batavia &amp\;&nbsp\;Geneva&nbsp\;Chambers\, and Batavia MainStreet</FONT>&nbsp\;for an </FONT></P><P align=center><FONT face=Arial color=#0000ff size=4>Eggs &amp\; Issues Breakfast with</FONT></P><P align=center><FONT face=Arial color=#800000 size=5><EM>Congressman Randy Hultgren</EM></FONT></P><P align=left><FONT face=Arial color=#0000ff size=4>The last historic election brought a Republican majority back to the U.S. House of Representatives. Join us on Tuesday\, February 22 to hear from an important&nbsp\;member of the Freshman Class. Randy Hultgren will give us a brief update on how Washington might change as a result of the change in the balance of power.</FONT></P><P align=center><FONT face=Arial color=#800000 size=4>If you care about the future\, this is an event you should not miss!</FONT></P><P align=left><FONT face=Arial color=#0000ff size=4>The Congressman must leave at 8:30 so we will begin with breakfast at 7:15. Please come and register early!</FONT></P><P align=left><FONT color=#0000ff><FONT face=Arial size=4>To register</FONT><FONT face=Arial size=4>\, sign up here on the Chamber website\, call the Chamber at 630-879-7134 or&nbsp\;email </FONT></FONT><A href="mailto:info@bataviachamber.org"><FONT face=Arial size=4>info@bataviachamber.org</FONT></A><FONT color=#0000ff>.</FONT></P><P align=left><FONT face=Arial color=#0000ff size=4>Please register by&nbsp\;Friday\, February 18.</FONT></P>
LOCATION:Eagle Brook Country Club
UID:e.1902.1390
SEQUENCE:3
DTSTAMP:20260419T212019Z
URL:https://business.bataviachamber.org/events/details/eggs-issues-with-congressman-randy-hultgren-02-22-2011-1390
END:VEVENT

END:VCALENDAR
