BEGIN:VCALENDAR
VERSION:2.0
PRODID:-//ChamberMaster//Event Calendar 2.0//EN
METHOD:PUBLISH
X-PUBLISHED-TTL:P3D
REFRESH-INTERVAL:P3D
CALSCALE:GREGORIAN
BEGIN:VEVENT
DTSTART:20110322T123000Z
DTEND:20110322T143000Z
X-MICROSOFT-CDO-ALLDAYEVENT:FALSE
SUMMARY:Eggs & Issues with Candidates for Batavia City Council
DESCRIPTION:Join the Batavia Chamber of Commerce and\nBatavia MainStreet for a CITY COUNCIL CANDIDATE FORUMThis April\, eight of the 14 aldermanic seats in the City of Batavia will be up for election. Your Chamber Legislative Affairs Committee has scheduled a forum so you can meet and hear from those who want to represent you as the City moves into our collective futures.The 10 candidates for these seats have been asked to submit written answers to six important questions:What is your position on the construction of a second bridge now that it has been sited?Where do you stand on the use of TIF funds for streetscape redesign?How do you think current and future TIF funds can best be used in support of the entire community?In what specific ways should the City encourage economic development? How might economic development differ downtown\, on Randall Road and in the industrial areas?What do you see as your most important job as an alderman?What is your most important priority in 2011-12?\nTheir responses are avaialable at: http://www.bataviachamber.org/documents/AldermanAnswers.pdf.This is an event you should not miss!Tuesday - March 22\, 2011\n7:30 am - 9:30 am\nBatavia City Hall\, City Council Chambers\n100 North Island Avenue\nThere is no cost for this very important eventWe will be serving coffee and pastries at 7:30. The presentation will begin promptly at 8:00 am.To make a reservation\, sign up here on the Chamber website\, call the Chamber at 630-879-7134 or email info@bataviachamber.org.Please register by Sunday\, March\, 20
X-ALT-DESC;FMTTYPE=text/html:<P align=center><FONT face=Arial color=#0000ff size=4>Join the <FONT color=#800000>Batavia Chamber of Commerce</FONT> and<BR><FONT color=#800000>Batavia MainStreet</FONT> for a </FONT></P><P align=center><FONT face=Arial color=#800000 size=4>CITY COUNCIL CANDIDATE FORUM</FONT></P><P align=left><FONT face=Arial color=#0000ff size=4>This April\, eight of the 14 aldermanic seats in the City of Batavia will be up for election. Your Chamber Legislative Affairs Committee has scheduled a forum so you can meet and hear from those who want to&nbsp\;represent you as the City moves into our collective futures.</FONT></P><P align=left><FONT face=Arial color=#0000ff size=4>The 10 candidates for these seats have been asked to submit written answers to six important questions:</FONT></P><UL><LI><DIV align=left><FONT face=Arial color=#0000ff><EM>What is your position on the construction of a second bridge now that it has been sited?</EM></FONT></DIV><LI><DIV align=left><FONT face=Arial color=#0000ff><EM>Where do you stand on the use of TIF funds for streetscape redesign?</EM></FONT></DIV><LI><DIV align=left><FONT face=Arial color=#0000ff><EM>How do you think current and future TIF funds can best be used in support of the entire community?</EM></FONT></DIV><LI><DIV align=left><FONT face=Arial color=#0000ff><EM>In what specific ways should the City encourage economic development? How might economic development differ downtown\, on Randall Road and in the industrial areas?</EM></FONT></DIV><LI><DIV align=left><FONT face=Arial color=#0000ff><EM>What do you see as your most important job as an alderman?</EM></FONT></DIV><LI><DIV align=left><FONT face=Arial color=#0000ff><EM>What is your most important priority in 2011-12?<BR></EM></DIV></LI></UL></FONT><P align=left><FONT face=Arial color=#0000ff size=4>Their responses are avaialable at: <A href="http://www.bataviachamber.org/documents/AldermanAnswers.pdf">http://www.bataviachamber.org/documents/AldermanAnswers.pdf</A>.</FONT></P><P align=center><FONT face=Arial color=#800000 size=4>This is an event you should not miss!</FONT></P><P align=center><FONT face=Arial color=#0000ff size=4>Tuesday&nbsp\;- March 22\, 2011<BR>7:30 am - 9:30 am<BR>Batavia City Hall\, City Council Chambers<BR>100 North Island Avenue<BR>There is no cost for this very important event</FONT></P><P align=left><FONT face=Arial color=#0000ff size=4>We will be serving coffee and pastries at 7:30. The presentation will begin promptly at 8:00 am.</FONT></P><P align=left><FONT color=#0000ff><FONT face=Arial size=4>To make a reservation\, sign up here on the Chamber website\, call the Chamber at 630-879-7134 or&nbsp\;email </FONT><A href="mailto:info@bataviachamber.org"><FONT face=Arial color=#800000 size=4>info@bataviachamber.org</FONT></A>.</FONT></P><P align=left><FONT face=Arial color=#0000ff size=4>Please register by&nbsp\;Sunday\, March\, 20</FONT></P>
LOCATION:City of Batavia
UID:e.1902.1391
SEQUENCE:3
DTSTAMP:20260419T195704Z
URL:https://business.bataviachamber.org/events/details/eggs-issues-with-candidates-for-batavia-city-council-03-22-2011-1391
END:VEVENT

END:VCALENDAR
