BEGIN:VCALENDAR
VERSION:2.0
PRODID:-//ChamberMaster//Event Calendar 2.0//EN
METHOD:PUBLISH
X-PUBLISHED-TTL:P3D
REFRESH-INTERVAL:P3D
CALSCALE:GREGORIAN
BEGIN:VEVENT
DTSTART:20100219T133000Z
DTEND:20100219T153000Z
X-MICROSOFT-CDO-ALLDAYEVENT:FALSE
SUMMARY:Eggs & Issues - US Chamber Update with Ben Taylor
DESCRIPTION:Is there something wrong with Washington (besides snow and politicians!)? Find out February 19 when Ben Taylor\, Director of the U.S. Chamber's Great Lakes Region discusses the ins and outs of post-Scott Brown Washington\, DC.  Hear the latest and participate in a lively discussion on questions of the day\, including: Health Care Reform: What's the prescription?  How might it affect my bottom line?  Was the President's pre-Super Bowl Summit invitation an olive branch to work towards a genuinely bipartisan bill or a savvy PR stunt?  And what is Reconciliation\, anyway?Jobs: It should be Job #1\, but what is being done and will it make a difference?  Can Washington legislate recovery or should they get out of the way?  What is the U.S. Chamber's Campaign for Free Enterprise and how can you get involved?Card Check Legislation: Will it ever die?  Who is Craig Becker?  Rumors of "compromise" abound - do they have any legs or is the bill a non-starter?Financial Services: How can we turn on the credit spigot for small businesses?  Is more bureaucracy the answer? Energy: Is Cap and Trade on the back burner?  What happened at "Constipagen"?  Do we need more energy or more government?What about transportation\, education\, immigration and host of other issues ripe for consideration? The legislative sprint will likely conclude by August as Members head back to the states and districts to prepare for what could be yet another "wave" election along the lines of '94 or 2006.  Which races are worth watching and what do they mean to you? Above all\, what can you do to help? The Batavia Chamber is working diligently to make your voice heard legislatively...but we need YOU to show up and be heard.
X-ALT-DESC;FMTTYPE=text/html:<SPAN class=Apple-style-span style="WORD-SPACING: 0px\; FONT: medium 'Times New Roman'\; TEXT-TRANSFORM: none\; COLOR: rgb(0\,0\,0)\; TEXT-INDENT: 0px\; WHITE-SPACE: normal\; LETTER-SPACING: normal\; BORDER-COLLAPSE: separate\; orphans: 2\; widows: 2\; -webkit-border-horizontal-spacing: 0px\; -webkit-border-vertical-spacing: 0px\; -webkit-text-decorations-in-effect: none\; -webkit-text-size-adjust: auto\; -webkit-text-stroke-width: 0px"><SPAN style="FONT-SIZE: 12px\; FONT-FAMILY: Tahoma\, Verdana\, Arial"><P class=MsoNormal style="FONT-SIZE: 12pt\; MARGIN: 0in 0in 0pt\; FONT-FAMILY: 'Times New Roman'" align=left><FONT size=+0><FONT face="Times New Roman" color=#0000ff size=3><SPAN style="FONT-SIZE: 12pt\; COLOR: black"><FONT color=#0000ff>Is there something wrong with Washington (besides snow and politicians!)? Find out&nbsp\;February 19 when Ben Taylor\, Director of the U.S. Chamber's Great Lakes Region discusses the ins and outs of post-Scott Brown Washington\, DC.&nbsp\; Hear the latest and participate in a lively discussion on questions of the day\, including:</FONT></SPAN></FONT></FONT></P><P class=MsoNormal style="FONT-SIZE: 12pt\; MARGIN: 0in 0in 0pt\; FONT-FAMILY: 'Times New Roman'" align=left><FONT size=+0><FONT face="Times New Roman" color=#0000ff size=3><SPAN style="FONT-SIZE: 12pt\; COLOR: black"></SPAN></FONT></FONT>&nbsp\;</P></SPAN><DIV style="FONT-FAMILY: Arial" align=left><UL style="MARGIN-TOP: 0in\; MARGIN-BOTTOM: 0in"><LI class=MsoNormal style="FONT-SIZE: 12pt\; MARGIN: 0in 0in 0pt\; COLOR: black\; FONT-FAMILY: 'Times New Roman'"><FONT face="Times New Roman" color=#0000ff size=3><SPAN style="FONT-SIZE: 12pt"><FONT color=#800000><STRONG>Health Care Reform: What's the prescription?</STRONG></FONT>&nbsp\; How might it affect my bottom line?&nbsp\; Was the President's pre-Super Bowl Summit invitation an olive branch to work towards a genuinely bipartisan bill or a savvy PR stunt?&nbsp\; And what is Reconciliation\, anyway?</SPAN></FONT><LI class=MsoNormal style="FONT-SIZE: 12pt\; MARGIN: 0in 0in 0pt\; COLOR: black\; FONT-FAMILY: 'Times New Roman'"><FONT face="Times New Roman" color=#0000ff size=3><SPAN style="FONT-SIZE: 12pt"><STRONG><FONT color=#800000>Jobs: It should be Job #1\, but what is being done and will it make a difference?</FONT></STRONG>&nbsp\; Can Washington<SPAN>&nbsp\;</SPAN>legislate recovery or should they get out of the way?&nbsp\; What is the U.S. Chamber's Campaign for Free Enterprise and how can you get involved?</SPAN></FONT><LI class=MsoNormal style="FONT-SIZE: 12pt\; MARGIN: 0in 0in 0pt\; COLOR: black\; FONT-FAMILY: 'Times New Roman'"><FONT face="Times New Roman" color=#0000ff size=3><SPAN style="FONT-SIZE: 12pt"><STRONG><FONT color=#800000>Card Check Legislation: Will it ever die?</FONT></STRONG>&nbsp\; Who is Craig Becker?&nbsp\; Rumors of "compromise" abound - do they have any legs or is the bill a non-starter?</SPAN></FONT><LI class=MsoNormal style="FONT-SIZE: 12pt\; MARGIN: 0in 0in 0pt\; COLOR: black\; FONT-FAMILY: 'Times New Roman'"><FONT face="Times New Roman" color=#0000ff size=3><SPAN style="FONT-SIZE: 12pt"><STRONG><FONT color=#800000>Financial Services: How can we turn on the credit spigot for small businesses?</FONT></STRONG>&nbsp\; Is more bureaucracy the answer?&nbsp\;</SPAN></FONT><LI class=MsoNormal style="FONT-SIZE: 12pt\; MARGIN: 0in 0in 0pt\; COLOR: black\; FONT-FAMILY: 'Times New Roman'"><FONT face="Times New Roman" color=#0000ff size=3><SPAN style="FONT-SIZE: 12pt"><STRONG><FONT color=#800000>Energy: Is Cap and Trade on the back burner?&nbsp\;</FONT></STRONG><SPAN class=Apple-converted-space>&nbsp\;</SPAN>What happened at "Constipagen"?&nbsp\; Do we need more energy or more government?</SPAN></FONT><LI class=MsoNormal style="FONT-SIZE: 12pt\; MARGIN: 0in 0in 0pt\; COLOR: black\; FONT-FAMILY: 'Times New Roman'"><FONT face="Times New Roman" color=#0000ff size=3><SPAN style="FONT-SIZE: 12pt">What about<SPAN class=Apple-converted-space>&nbsp\;</SPAN><FONT color=#800000><STRONG>transportation\, education\, immigration and host of other issues</STRONG></FONT><SPAN class=Apple-converted-space>&nbsp\;</SPAN>ripe for consideration?</SPAN></FONT></LI></UL></DIV><P class=MsoNormal style="FONT-SIZE: 12pt\; MARGIN: 0in 0in 0pt\; FONT-FAMILY: 'Times New Roman'" align=left><FONT face="Times New Roman" color=#0000ff size=3><SPAN style="FONT-SIZE: 12pt\; COLOR: black"></SPAN></FONT>&nbsp\;</P><P class=MsoNormal style="FONT-SIZE: 12pt\; MARGIN: 0in 0in 0pt\; FONT-FAMILY: 'Times New Roman'" align=left><FONT face="Times New Roman" color=#0000ff size=3><SPAN style="FONT-SIZE: 12pt\; COLOR: black"><FONT color=#0000ff>The legislative sprint</FONT><SPAN class=Apple-converted-space>&nbsp\;</SPAN><FONT color=#0000ff>will likely conclude by August as Members head back to the states and districts to prepare for what could be yet another "wave" election along the lines of '94 or 2006.&nbsp\; Which races are worth watching and what do they mean to you?</FONT>&nbsp\;</SPAN></FONT><FONT face="Times New Roman" color=#0000ff size=3><SPAN style="FONT-SIZE: 12pt\; COLOR: black"><FONT color=#0000ff>Above all\, what can you do to help?</FONT></SPAN></FONT></P><P class=MsoNormal style="FONT-SIZE: 12pt\; MARGIN: 0in 0in 0pt\; FONT-FAMILY: 'Times New Roman'" align=left><FONT face="Times New Roman" color=#0000ff size=3><SPAN style="FONT-SIZE: 12pt\; COLOR: black"><FONT color=#0000ff></FONT></SPAN></FONT>&nbsp\;</P><P class=MsoNormal style="FONT-SIZE: 12pt\; MARGIN: 0in 0in 0pt\; FONT-FAMILY: 'Times New Roman'" align=left><FONT face="Times New Roman" color=#0000ff size=3><SPAN style="FONT-SIZE: 12pt\; COLOR: black"><FONT color=#0000ff><STRONG><EM><U>The Batavia Chamber is working diligently to make your voice heard legislatively...but we need YOU to show up and be heard.</U></EM></STRONG><SPAN class=Apple-converted-space>&nbsp\;</SPAN></FONT></SPAN></FONT></P></SPAN>
LOCATION:Fox Valley Country Club
UID:e.1902.1387
SEQUENCE:3
DTSTAMP:20260420T175108Z
URL:https://business.bataviachamber.org/events/details/eggs-issues-us-chamber-update-with-ben-taylor-02-19-2010-1387
END:VEVENT

END:VCALENDAR
