BEGIN:VCALENDAR
VERSION:2.0
PRODID:-//ChamberMaster//Event Calendar 2.0//EN
METHOD:PUBLISH
X-PUBLISHED-TTL:P3D
REFRESH-INTERVAL:P3D
CALSCALE:GREGORIAN
BEGIN:VEVENT
DTSTART:20091109T133000Z
DTEND:20091109T153000Z
X-MICROSOFT-CDO-ALLDAYEVENT:FALSE
SUMMARY:Eggs & Issues - Revised Zoning Codes (NEW VENUE!)
DESCRIPTION:PLEASE NOTE: Due to overwhelming demand...Event moved to Batavia City Hall!! The City of Batavia is proposing a comprehensive revision of zoning codes throughout the city. These new codes will impact a majority of parcels in the city--residential\, commercial\, industrial and others. If you own property\, or do business\, in the City limits\, this is a MUSTevent for you to attend.
X-ALT-DESC;FMTTYPE=text/html:<DIV style="FONT-FAMILY: Arial" align=left><FONT color=#0000ff size=4><STRONG><U>PLEASE NOTE: Due to overwhelming demand...Event moved to Batavia City Hall!!</U></STRONG></FONT></DIV><DIV style="FONT-FAMILY: Arial" align=left><FONT color=#0000ff size=4></FONT>&nbsp\;</DIV><DIV style="FONT-FAMILY: Arial" align=left><FONT color=#0000ff size=4>The City of Batavia is proposing a <FONT color=#800000><U>comprehensive revision of zoning codes</U></FONT> throughout the city. These new codes will impact a majority of parcels in the city--residential\, commercial\, industrial and others.</FONT></DIV><DIV style="FONT-FAMILY: Arial" align=left><FONT color=#0000ff size=4></FONT>&nbsp\;</DIV><DIV style="FONT-FAMILY: Arial" align=left><FONT color=#0000ff size=4>If you own property\, or do business\,&nbsp\;in the City limits\, this is a MUSTevent for you to attend.</FONT></DIV>
LOCATION:City of Batavia
UID:e.1902.1386
SEQUENCE:3
DTSTAMP:20260420T231643Z
URL:https://business.bataviachamber.org/events/details/eggs-issues-revised-zoning-codes-new-venue-11-09-2009-1386
END:VEVENT

END:VCALENDAR
