BEGIN:VCALENDAR
VERSION:2.0
PRODID:-//ChamberMaster//Event Calendar 2.0//EN
METHOD:PUBLISH
X-PUBLISHED-TTL:P3D
REFRESH-INTERVAL:P3D
CALSCALE:GREGORIAN
BEGIN:VEVENT
DTSTART:20101023T003000Z
DTEND:20101023T020000Z
X-MICROSOFT-CDO-ALLDAYEVENT:FALSE
SUMMARY:Eggs & Issues on Batavia Rec Center (NOTE: E&I MOVED TO NEW LOCATION)
DESCRIPTION:NOTE: Due to an overwhelming response\, we have moved this events to Batavia City Hall!Join the Batavia Chamber of Commerce and Batavia MainStreet for a wonderful Enticing Cuisine breakfast at City Hall followed by a presentation on the proposed recreation center and parking garage in downtown Batavia. Hear from the City of Batavia and the Batavia Park District. A representative of the group supporting the issue and a citizen opposing it will also speak for a short time.Come prepared to ask any questions you might have about the impact this development will have on the economic future of the community.We will be serving breakfast at 7:30. The presentation will begin promptly at 8:00 am.To make a reservation\, sign up here on the Chamber website\, call the Chamber at 630-879-7134 or email info@bataviachamber.org.Please register by Wednesday\, October 20
X-ALT-DESC;FMTTYPE=text/html:<P align=left><FONT face=Arial color=#0000ff size=4>NOTE: Due to an overwhelming response\, we have moved this events to Batavia City Hall!</FONT></P><P align=left><FONT face=Arial color=#0000ff size=4>Join the <FONT color=#800000>Batavia Chamber of Commerce</FONT> and <FONT color=#800000>Batavia MainStreet</FONT> for a wonderful Enticing Cuisine breakfast at City Hall followed by a presentation on the proposed recreation center and parking garage in downtown Batavia. Hear from the City of Batavia and the Batavia Park District. A representative of the group supporting the issue and a citizen opposing it will also speak for a short time.</FONT></P><P align=left><FONT face=Arial color=#0000ff size=4>Come prepared to ask any questions you might have about the impact this development will have on the economic future of the community.</FONT></P><P align=left><FONT face=Arial color=#0000ff size=4>We will be serving breakfast at 7:30. The presentation will begin promptly at 8:00 am.</FONT></P><P align=left><FONT color=#0000ff><FONT face=Arial size=4>To make a reservation\, sign up here on the Chamber website\, call the Chamber at 630-879-7134 or&nbsp\;email </FONT><A href="mailto:info@bataviachamber.org"><FONT face=Arial color=#800000 size=4>info@bataviachamber.org</FONT></A>.</FONT></P><P align=left><FONT face=Arial color=#0000ff size=4>Please register by Wednesday\, October 20</FONT></P>
LOCATION:City of Batavia
UID:e.1902.1389
SEQUENCE:3
DTSTAMP:20260420T042542Z
URL:https://business.bataviachamber.org/events/details/eggs-issues-on-batavia-rec-center-note-e-i-moved-to-new-location-10-22-2010-1389
END:VEVENT

END:VCALENDAR
