BEGIN:VCALENDAR
VERSION:2.0
PRODID:-//ChamberMaster//Event Calendar 2.0//EN
METHOD:PUBLISH
X-PUBLISHED-TTL:P3D
REFRESH-INTERVAL:P3D
CALSCALE:GREGORIAN
BEGIN:VEVENT
DTSTART:20110408T003000Z
DTEND:20110408T020000Z
X-MICROSOFT-CDO-ALLDAYEVENT:FALSE
SUMMARY:Eggs & Issues - Kane County Update with Karen McConnaughay
DESCRIPTION:Join the Batavia Chamber of Commerce and \nBatavia MainStreet for...A KANE COUNTY UPDATELast June\, Kane County Board Chairman Karen McConnaughay gave an excellent up-to-the-minute outlook on what is planned for the future of Kane County including population\, economic data\, transportation\, water challenges\, housing issues and forest preserve information.We are pleased she will return this April to give us an update on the County. Please don't miss this excellent presentation.Thursday - April 7\, 2011\n7:30 am - 9:00 am\nBatavia City Hall\, City Council Chambers\n100 North Island Avenue\nChamber & MainStreet Member Cost: $10.00\nNon-Member Cost: $15.00 in advanceWe will be serving coffee and pastries at 7:30. The presentation will begin promptly at 8:00 am.To make a reservation\, sign up here on the Chamber website\, call the Chamber at 630-879-7134 or email info@bataviachamber.org.Please register by Tuesday\, April 5
X-ALT-DESC;FMTTYPE=text/html:<P align=center><FONT face=Arial color=#0000ff size=4>Join the <FONT color=#800000>Batavia Chamber of Commerce</FONT> and <BR><FONT color=#800000>Batavia MainStreet</FONT> for...</FONT></P><P align=center><FONT face=Arial color=#800000 size=4>A KANE COUNTY UPDATE</FONT></P><P align=left><FONT face=Arial color=#0000ff size=4>Last June\, Kane County Board Chairman Karen McConnaughay&nbsp\;gave an excellent up-to-the-minute outlook on what is planned for the future of Kane County including population\, economic data\, transportation\, water challenges\, housing issues and forest preserve information.</FONT></P><P align=left><FONT face=Arial color=#0000ff size=4>We are pleased&nbsp\;she&nbsp\;will return this April to give us an update on the County. Please don't miss this excellent presentation.</FONT></P><P align=center><FONT face=Arial color=#0000ff size=4>Thursday - April 7\, 2011<BR>7:30 am - 9:00 am<BR>Batavia City Hall\, City Council Chambers<BR>100 North Island Avenue<BR>Chamber &amp\; MainStreet Member Cost: $10.00<BR>Non-Member Cost: $15.00 in advance</FONT></P><P align=left><FONT face=Arial color=#0000ff size=4>We will be serving coffee and pastries at 7:30. The presentation will begin promptly at 8:00 am.</FONT></P><P align=left><FONT color=#0000ff><FONT face=Arial size=4>To make a reservation\, sign up here on the Chamber website\, call the Chamber at 630-879-7134 or&nbsp\;email </FONT><A href="mailto:info@bataviachamber.org"><FONT face=Arial color=#800000 size=4>info@bataviachamber.org</FONT></A>.</FONT></P><P align=left><FONT face=Arial color=#0000ff size=4>Please register by&nbsp\;Tuesday\, April 5</FONT></P>
LOCATION:City of Batavia
UID:e.1902.1392
SEQUENCE:3
DTSTAMP:20260423T134055Z
URL:https://business.bataviachamber.org/events/details/eggs-issues-kane-county-update-with-karen-mcconnaughay-04-07-2011-1392
END:VEVENT

END:VCALENDAR
