BEGIN:VCALENDAR
VERSION:2.0
PRODID:-//ChamberMaster//Event Calendar 2.0//EN
METHOD:PUBLISH
X-PUBLISHED-TTL:P3D
REFRESH-INTERVAL:P3D
CALSCALE:GREGORIAN
BEGIN:VEVENT
DTSTART:20090317T123000Z
DTEND:20090317T143000Z
X-MICROSOFT-CDO-ALLDAYEVENT:FALSE
SUMMARY:Eggs & Issues - Batavia Mayoral Candidate Forum
DESCRIPTION:Batavia is indeed fortunate to have three qualified and enthusiastic candidates for Mayor in the upcoming election. Join us to hear their plans and agendas for the city through 2013. Help us decide who may be best suited to lead the community during a difficult economy.  The Chamber plans to release its "Business Agenda" for the next 4 years and will ask the candidates to respond. This is a very important time for the Country\, State and City. Please come and take a proactive stand for our future!
X-ALT-DESC;FMTTYPE=text/html:<DIV style="FONT-FAMILY: Arial" align=left><FONT color=#0000ff size=4>Batavia is indeed fortunate to have three qualified and enthusiastic candidates for Mayor in the upcoming election.</FONT></DIV><DIV style="FONT-FAMILY: Arial" align=left><FONT color=#0000ff size=4></FONT>&nbsp\;</DIV><DIV style="FONT-FAMILY: Arial" align=left><FONT color=#0000ff size=4>Join us to hear their plans and agendas for the city through 2013. Help us decide who may be best suited to lead the community during a difficult economy.&nbsp\; The Chamber plans to release its "Business Agenda" for the next 4 years and will ask the candidates to respond.</FONT></DIV><DIV style="FONT-FAMILY: Arial" align=left><FONT color=#0000ff size=4></FONT>&nbsp\;</DIV><DIV style="FONT-FAMILY: Arial" align=left><FONT color=#0000ff size=4>This is a very important time for the Country\, State and City. Please come and take a proactive stand for our future!</FONT></DIV>
LOCATION:Lincoln Inn Banquets
UID:e.1902.1385
SEQUENCE:3
DTSTAMP:20260421T143740Z
URL:https://business.bataviachamber.org/events/details/eggs-issues-batavia-mayoral-candidate-forum-03-17-2009-1385
END:VEVENT

END:VCALENDAR
