BEGIN:VCALENDAR
VERSION:2.0
PRODID:-//ChamberMaster//Event Calendar 2.0//EN
METHOD:PUBLISH
X-PUBLISHED-TTL:P3D
REFRESH-INTERVAL:P3D
CALSCALE:GREGORIAN
BEGIN:VEVENT
DTSTART:20080510T003000Z
DTEND:20080510T020000Z
X-MICROSOFT-CDO-ALLDAYEVENT:FALSE
SUMMARY:Eggs & Issues - 08/05/09
DESCRIPTION:
X-ALT-DESC;FMTTYPE=text/html:
LOCATION:
UID:e.1902.1382
SEQUENCE:3
DTSTAMP:20260426T004355Z
URL:https://business.bataviachamber.org/events/details/eggs-issues-08-05-09-05-09-2008-1382
END:VEVENT

END:VCALENDAR
