BEGIN:VCALENDAR
VERSION:2.0
PRODID:-//ChamberMaster//Event Calendar 2.0//EN
METHOD:PUBLISH
X-PUBLISHED-TTL:P3D
REFRESH-INTERVAL:P3D
CALSCALE:GREGORIAN
BEGIN:VEVENT
DTSTART:20091105T060000Z
DTEND:20091105T060000Z
X-MICROSOFT-CDO-ALLDAYEVENT:FALSE
SUMMARY:Economic Luncheon
DESCRIPTION:Keynote Speaker:  Dr. William A. Strauss\nSenior Economist & Economic Advisor\nFederal Reserve Bankof Chicago\n\n$40 per person\nRSVP:  Pam Reese
X-ALT-DESC;FMTTYPE=text/html:Keynote Speaker:  Dr. William A. Strauss\nSenior Economist & Economic Advisor\nFederal Reserve Bankof Chicago\n\n$40 per person\nRSVP:  Pam Reese
LOCATION:Waubonsee Community College- APC Building
UID:e.1902.1056
SEQUENCE:3
DTSTAMP:20260420T231743Z
URL:https://business.bataviachamber.org/events/details/economic-luncheon-11-05-2009-1056
END:VEVENT

END:VCALENDAR
