BEGIN:VCALENDAR
VERSION:2.0
PRODID:-//ChamberMaster//Event Calendar 2.0//EN
METHOD:PUBLISH
X-PUBLISHED-TTL:P3D
REFRESH-INTERVAL:P3D
CALSCALE:GREGORIAN
BEGIN:VEVENT
DTSTART:20110424T050000Z
DTEND:20110424T050000Z
X-MICROSOFT-CDO-ALLDAYEVENT:FALSE
SUMMARY:Easter Brunch
DESCRIPTION:Easter Brunch 14.99 Adults\n                     8.99 Children\n \nPlease Call 630-326-9355 for reservations.
X-ALT-DESC;FMTTYPE=text/html:Easter Brunch 14.99 Adults\n                     8.99 Children\n \nPlease Call 630-326-9355 for reservations.
LOCATION:Fox's on the River
UID:e.1902.212
SEQUENCE:3
DTSTAMP:20260419T180441Z
URL:https://business.bataviachamber.org/events/details/easter-brunch-04-24-2011-212
END:VEVENT

END:VCALENDAR
