BEGIN:VCALENDAR
VERSION:2.0
PRODID:-//ChamberMaster//Event Calendar 2.0//EN
METHOD:PUBLISH
X-PUBLISHED-TTL:P3D
REFRESH-INTERVAL:P3D
CALSCALE:GREGORIAN
BEGIN:VEVENT
DTSTART:20110326T050000Z
DTEND:20110326T050000Z
X-MICROSOFT-CDO-ALLDAYEVENT:FALSE
SUMMARY:Earth Hour 2011
DESCRIPTION:As lights around the world are darkened for one hour\, join your neighbors and friends for activitieslike: a drum circle\, story telling\, star gazing\, yoga\, and more.
X-ALT-DESC;FMTTYPE=text/html:As lights around the world are darkened for one hour\, join your neighbors and friends for activitieslike: a drum circle\, story telling\, star gazing\, yoga\, and more.
LOCATION:Batavia Park District East Side Community Center
UID:e.1902.201
SEQUENCE:3
DTSTAMP:20260419T193220Z
URL:https://business.bataviachamber.org/events/details/earth-hour-2011-03-26-2011-201
END:VEVENT

END:VCALENDAR
