BEGIN:VCALENDAR
VERSION:2.0
PRODID:-//ChamberMaster//Event Calendar 2.0//EN
METHOD:PUBLISH
X-PUBLISHED-TTL:P3D
REFRESH-INTERVAL:P3D
CALSCALE:GREGORIAN
BEGIN:VEVENT
DTSTART:20101002T163000Z
DTEND:20101002T170000Z
X-MICROSOFT-CDO-ALLDAYEVENT:FALSE
SUMMARY:Eagle Flexible Packaging Ribbon Cutting
DESCRIPTION:Join the Batavia Chamber as we welcome Eagle Flexible Packaging to their new home in Batavia.
X-ALT-DESC;FMTTYPE=text/html:<P class=MsoNormal style="MARGIN: 0in 0in 0pt\; TEXT-ALIGN: center" align=left>Join the Batavia Chamber as we welcome Eagle Flexible Packaging to their new home in Batavia.</P>
LOCATION:Eagle Flexible Packaging
UID:e.1902.1742
SEQUENCE:3
DTSTAMP:20260420T054229Z
URL:https://business.bataviachamber.org/events/details/eagle-flexible-packaging-ribbon-cutting-10-02-2010-1742
END:VEVENT

END:VCALENDAR
