BEGIN:VCALENDAR
VERSION:2.0
PRODID:-//ChamberMaster//Event Calendar 2.0//EN
METHOD:PUBLISH
X-PUBLISHED-TTL:P3D
REFRESH-INTERVAL:P3D
CALSCALE:GREGORIAN
BEGIN:VEVENT
DTSTART:20100220T060000Z
DTEND:20100220T060000Z
X-MICROSOFT-CDO-ALLDAYEVENT:FALSE
SUMMARY:Eagle Brook Country Club/LifeSource Blood Drive
DESCRIPTION:Give the gift of life by supporting Eagle Brook Country Club's Blood Drive on Saturday\, February 20th from 9am-2pm!  Open to the general public.  Reservations strongly encouraged although walk-ins welcome.  Call 630-208-4653 to sign-up today!
X-ALT-DESC;FMTTYPE=text/html:Give the gift of life by supporting Eagle Brook Country Club's Blood Drive on Saturday\, February 20th from 9am-2pm!  Open to the general public.  Reservations strongly encouraged although walk-ins welcome.  Call 630-208-4653 to sign-up today!
LOCATION:Eagle Brook Country Club Grand Ballroom
UID:e.1902.1106
SEQUENCE:3
DTSTAMP:20260420T175731Z
URL:https://business.bataviachamber.org/events/details/eagle-brook-country-club-lifesource-blood-drive-02-20-2010-1106
END:VEVENT

END:VCALENDAR
