BEGIN:VCALENDAR
VERSION:2.0
PRODID:-//ChamberMaster//Event Calendar 2.0//EN
METHOD:PUBLISH
X-PUBLISHED-TTL:P3D
REFRESH-INTERVAL:P3D
CALSCALE:GREGORIAN
BEGIN:VEVENT
DTSTART:20091015T050000Z
DTEND:20091015T050000Z
X-MICROSOFT-CDO-ALLDAYEVENT:FALSE
SUMMARY:Duck Race for Leukemia Fundraiser
DESCRIPTION:Alden of Waterford 1st Annual Duck Race for Leukemia Research Foundation.  Purchase a duck for $5.00and come and see it win!!  Grand prize is $500.00.   Entertainment\, food\, wine tasting and a Duck Race!!!  Call 630-851-7266 for more information!!
X-ALT-DESC;FMTTYPE=text/html:Alden of Waterford 1st Annual Duck Race for Leukemia Research Foundation.  Purchase a duck for $5.00and come and see it win!!  Grand prize is $500.00.   Entertainment\, food\, wine tasting and a Duck Race!!!  Call 630-851-7266 for more information!!
LOCATION:Alden of Waterford
UID:e.1902.1045
SEQUENCE:3
DTSTAMP:20260421T011007Z
URL:https://business.bataviachamber.org/events/details/duck-race-for-leukemia-fundraiser-10-15-2009-1045
END:VEVENT

END:VCALENDAR
