BEGIN:VCALENDAR
VERSION:2.0
PRODID:-//ChamberMaster//Event Calendar 2.0//EN
METHOD:PUBLISH
X-PUBLISHED-TTL:P3D
REFRESH-INTERVAL:P3D
CALSCALE:GREGORIAN
BEGIN:VEVENT
DTSTART:20101022T050000Z
DTEND:20101022T050000Z
X-MICROSOFT-CDO-ALLDAYEVENT:FALSE
SUMMARY:Drive-Through BBQ and Bake Sale
DESCRIPTION:Tired of cooking? Looking for a delicious but easy meal Friday night? Then drive through MontessoriAcademy in Batavia for a great barbeque meal you can take home for the whole family.\n	On Friday\, October 22\, Montessori Academy will host a drive through barbeque and bake sale. Participants can drive through the campus and pick up a meal grilled by 5B’s Catering. For just $12 participants can getpork chops\, chicken or hot dogs\, complete with applesauce\, coleslaw\, baked beans\, roll and butter\, all delivered to your car. This meal can be topped off with baked goods for just $1 from the bake sale hosted by Montessori Academy parents.\n	Montessori Academy is located at 595 South River Street\, Batavia\, Illinois 60510 (located on Rt. 25\, 0.5 mile south of Wilson Street). Pick up a great meal and avoid cooking\, all while supporting our local non-profit school. Simply drive up and order at theschool. Questions\, please contact 630.879.2586 or info@montessoribatavia.com.
X-ALT-DESC;FMTTYPE=text/html:Tired of cooking? Looking for a delicious but easy meal Friday night? Then drive through MontessoriAcademy in Batavia for a great barbeque meal you can take home for the whole family.\n	On Friday\, October 22\, Montessori Academy will host a drive through barbeque and bake sale. Participants can drive through the campus and pick up a meal grilled by 5B’s Catering. For just $12 participants can getpork chops\, chicken or hot dogs\, complete with applesauce\, coleslaw\, baked beans\, roll and butter\, all delivered to your car. This meal can be topped off with baked goods for just $1 from the bake sale hosted by Montessori Academy parents.\n	Montessori Academy is located at 595 South River Street\, Batavia\, Illinois 60510 (located on Rt. 25\, 0.5 mile south of Wilson Street). Pick up a great meal and avoid cooking\, all while supporting our local non-profit school. Simply drive up and order at theschool. Questions\, please contact 630.879.2586 or info@montessoribatavia.com.
LOCATION:Montessori Academy
UID:e.1902.79
SEQUENCE:3
DTSTAMP:20260420T042539Z
URL:https://business.bataviachamber.org/events/details/drive-through-bbq-and-bake-sale-10-22-2010-79
END:VEVENT

END:VCALENDAR
