BEGIN:VCALENDAR
VERSION:2.0
PRODID:-//ChamberMaster//Event Calendar 2.0//EN
METHOD:PUBLISH
X-PUBLISHED-TTL:P3D
REFRESH-INTERVAL:P3D
CALSCALE:GREGORIAN
BEGIN:VEVENT
DTSTART:20091202T230000Z
DTEND:20091203T010000Z
X-MICROSOFT-CDO-ALLDAYEVENT:FALSE
SUMMARY:Drendel & Jansons Law Group Open House
DESCRIPTION:Join us to see the beautiful new offices of the Drendel & Jansons Law Group. You will truly enjoy seeing how this beautiful building is being revitalized for Downtown Batavia.
X-ALT-DESC;FMTTYPE=text/html:<P class=MsoNormal style="MARGIN: 0in 0in 0pt\; TEXT-ALIGN: center" align=left>Join us to see the beautiful new offices of the Drendel&nbsp\;&amp\; Jansons Law Group. You will truly enjoy seeing how this beautiful building is being revitalized for Downtown Batavia.</P>
LOCATION:Drendel & Jansons Law Group
UID:e.1902.1735
SEQUENCE:3
DTSTAMP:20260420T213056Z
URL:https://business.bataviachamber.org/events/details/drendel-jansons-law-group-open-house-12-02-2009-1735
END:VEVENT

END:VCALENDAR
