BEGIN:VCALENDAR
VERSION:2.0
PRODID:-//ChamberMaster//Event Calendar 2.0//EN
METHOD:PUBLISH
X-PUBLISHED-TTL:P3D
REFRESH-INTERVAL:P3D
CALSCALE:GREGORIAN
BEGIN:VEVENT
DTSTART:20240816T180000Z
DTEND:20240816T200000Z
X-MICROSOFT-CDO-ALLDAYEVENT:FALSE
SUMMARY:Dragon Day at Abbey Farms Ages 5-10
DESCRIPTION:We will hear a story of dragons from literature involving map making\, "packing a backpack"\, and problem-solving throughout the adventure. Activities will guide our learning and fun problem-solving. Participants will meet Sorrel\, a REAL dragon! Then they will design their own dragon!
X-ALT-DESC;FMTTYPE=text/html:<span style="color:#354052"><span style="font-family:helvetica\,sans-serif"><span style="font-size:11.0pt">We will hear a story of dragons from literature involving map making\, &ldquo\;packing a backpack&rdquo\;\, and problem-solving throughout the adventure. Activities will guide our learning and fun problem-solving. Participants will meet Sorrel\, a REAL dragon!&nbsp\;Then they will design their own dragon!</span></span></span>
LOCATION:Abbey Farms 2855 Hart Road Aurora\, IL 60502
UID:e.1902.24560
SEQUENCE:3
DTSTAMP:20260426T005132Z
URL:https://business.bataviachamber.org/events/details/dragon-day-at-abbey-farms-ages-5-10-24560
END:VEVENT

END:VCALENDAR
