BEGIN:VCALENDAR
VERSION:2.0
PRODID:-//ChamberMaster//Event Calendar 2.0//EN
METHOD:PUBLISH
X-PUBLISHED-TTL:P3D
REFRESH-INTERVAL:P3D
CALSCALE:GREGORIAN
BEGIN:VEVENT
DTSTART:20091116T170000Z
DTEND:20091116T190000Z
X-MICROSOFT-CDO-ALLDAYEVENT:FALSE
SUMMARY:Domo Arigato Gozaimasu - Talk with the Chamber
DESCRIPTION:Domo Arigato Gozaimasu is a phrase used extensively in all customer and merchant transactions in Japan. It means a very sincere "Thank You" and shows respect for both the customer and the merchant. In America the customer is always right and often gets more respect than the merchant.  This conversations invites the community to come and talk with the Chamber's Executive Director and Board about the state of relationships between merchants and customers in Batavia and the Fox Valley. Bring your ideas and stories--of both the exceptional and the dismal!
X-ALT-DESC;FMTTYPE=text/html:<DIV style="FONT-FAMILY: Arial" align=left><FONT color=#0000ff size=4><EM>Domo Arigato Gozaimasu</EM> is a&nbsp\;phrase used extensively in all customer and merchant transactions in Japan. It means a very sincere "Thank You" and shows respect for <U><EM>both</EM></U> the customer and the merchant. In America the customer is always right and often gets more respect than the merchant. </FONT></DIV><DIV style="FONT-FAMILY: Arial" align=left><FONT color=#0000ff size=4></FONT>&nbsp\;</DIV><DIV style="FONT-FAMILY: Arial" align=left><FONT color=#0000ff size=4>This conversations invites the community to come and talk with the Chamber's Executive Director and Board about the state of relationships between merchants and customers in Batavia and the Fox Valley.</FONT></DIV><DIV style="FONT-FAMILY: Arial" align=left><FONT color=#0000ff size=4></FONT>&nbsp\;</DIV><DIV style="FONT-FAMILY: Arial" align=left><FONT color=#0000ff size=4>Bring your ideas and stories--of both the exceptional and the dismal!</FONT></DIV>
LOCATION:Burger King/Gill Management
UID:e.1902.1623
SEQUENCE:3
DTSTAMP:20260420T232223Z
URL:https://business.bataviachamber.org/events/details/domo-arigato-gozaimasu-talk-with-the-chamber-11-16-2009-1623
END:VEVENT

END:VCALENDAR
