BEGIN:VCALENDAR
VERSION:2.0
PRODID:-//ChamberMaster//Event Calendar 2.0//EN
METHOD:PUBLISH
X-PUBLISHED-TTL:P3D
REFRESH-INTERVAL:P3D
CALSCALE:GREGORIAN
BEGIN:VEVENT
DTSTART:20100603T050000Z
DTEND:20100603T050000Z
X-MICROSOFT-CDO-ALLDAYEVENT:FALSE
SUMMARY:''Doing Business with the Federal Government''
DESCRIPTION:Congressman Foster will welcome attendees. Representatives from the General Services Administration(GSA)\, Small Business Administration (SBA)\, and the Procurement Technical Assistance Center (PTAC) will be attending to discuss doing business with the federal government.
X-ALT-DESC;FMTTYPE=text/html:<P align=left>Congressman Foster will welcome attendees. Representatives from the General Services Administration(GSA)\, Small Business Administration (SBA)\, and the Procurement Technical Assistance Center (PTAC) will be attending to discuss doing business with the federal government.</P>
LOCATION:Hilton Garden Inn
UID:e.1902.2
SEQUENCE:3
DTSTAMP:20260420T124057Z
URL:https://business.bataviachamber.org/events/details/doing-business-with-the-federal-government-06-03-2010-2
END:VEVENT

END:VCALENDAR
