BEGIN:VCALENDAR
VERSION:2.0
PRODID:-//ChamberMaster//Event Calendar 2.0//EN
METHOD:PUBLISH
X-PUBLISHED-TTL:P3D
REFRESH-INTERVAL:P3D
CALSCALE:GREGORIAN
BEGIN:VEVENT
DTSTART:20101110T060000Z
DTEND:20101110T060000Z
X-MICROSOFT-CDO-ALLDAYEVENT:FALSE
SUMMARY:Distractible\, Impulsive Children: Understanding ADHD
DESCRIPTION:Attention parents of distractible and impulsive children.  Join TriCity Family Services for a ParentSupport   however\, fee waivers are available based on need. Call TriCity FamilyServices to register at 630-232-1070.
X-ALT-DESC;FMTTYPE=text/html:Attention parents of distractible and impulsive children.  Join TriCity Family Services for a ParentSupport & Education Series presentation.  \n\n"Distractible\, Impulsive Children: Understanding andLiving with Children Who May Have ADHD" will be presented on Wednesday\, November 10th from 7:00 – 8:30 PM at the TriCity Family Services offices\, located at 1120 Randall Ct. Geneva\, IL 60134.  This presentation will be delivered by Family Services Division Director\, Tom Dewese\, LCSW\, ACSW.\n\nThis presentation is ideal for parents who are questioning whether their children may have ADHD (Attention Deficit Hyperactivity Disorder) and those who already have a child diagnosed.  It will address the following topics: signs and symptoms of ADHD\, assessment procedures\, types of treatment\, common challenges faced by parents of children with ADHD.  \n\nAdvance registration is preferred.  Entrance fee is $10 per attendee\; however\, fee waivers are available based on need. Call TriCity FamilyServices to register at 630-232-1070.  \n
LOCATION:TriCity Family Services
UID:e.1902.86
SEQUENCE:3
DTSTAMP:20260420T023653Z
URL:https://business.bataviachamber.org/events/details/distractible-impulsive-children-understanding-adhd-11-10-2010-86
END:VEVENT

END:VCALENDAR
