BEGIN:VCALENDAR
VERSION:2.0
PRODID:-//ChamberMaster//Event Calendar 2.0//EN
METHOD:PUBLISH
X-PUBLISHED-TTL:P3D
REFRESH-INTERVAL:P3D
CALSCALE:GREGORIAN
BEGIN:VEVENT
DTSTART:20090424T150000Z
DTEND:20090424T160000Z
X-MICROSOFT-CDO-ALLDAYEVENT:FALSE
SUMMARY:Discount Tire Grand Opening & Ribbon Cutting
DESCRIPTION:Join the festivities as we welcome Discount Tire to Batavia and cut the ribbon at 10:00 a.m. If you join us for BOTH the ribbon cutting and the Funway Bowling Challenge that same evening...you will be eligible for special prizes!
X-ALT-DESC;FMTTYPE=text/html:<P align=left>Join the festivities as we welcome Discount Tire to Batavia and&nbsp\;cut the ribbon at 10:00 a.m. If you join us for BOTH the ribbon cutting and the Funway Bowling Challenge that same evening...you will be eligible for special prizes!</P>
LOCATION:Discount Tire
UID:e.1902.1725
SEQUENCE:3
DTSTAMP:20260421T131732Z
URL:https://business.bataviachamber.org/events/details/discount-tire-grand-opening-ribbon-cutting-04-24-2009-1725
END:VEVENT

END:VCALENDAR
