BEGIN:VCALENDAR
VERSION:2.0
PRODID:-//ChamberMaster//Event Calendar 2.0//EN
METHOD:PUBLISH
X-PUBLISHED-TTL:P3D
REFRESH-INTERVAL:P3D
CALSCALE:GREGORIAN
BEGIN:VEVENT
DTSTART:20110707T050000Z
DTEND:20110707T050000Z
X-MICROSOFT-CDO-ALLDAYEVENT:FALSE
SUMMARY:Dine & Donate
DESCRIPTION:Join us as Goodwill hosts America's Chefs from Food Network's "Diners\, Drive-ins and Dives" as theygrill up their Backyard BBQ favorites. \n\nIt's all free when you bring in a bag of gently used items! \n\nCelebrity Chefs will be serving up a whole lot of fun along with their specialties includingburgers\, ribs\, chicken\, pizza\, and a Junkyard Dog Chicago Style.
X-ALT-DESC;FMTTYPE=text/html:Join us as Goodwill hosts America's Chefs from Food Network's "Diners\, Drive-ins and Dives" as theygrill up their Backyard BBQ favorites. \n\nIt's all free when you bring in a bag of gently used items! \n\nCelebrity Chefs will be serving up a whole lot of fun along with their specialties includingburgers\, ribs\, chicken\, pizza\, and a Junkyard Dog Chicago Style. \n
LOCATION:Goodwill Store & Donation Center
UID:e.1902.310
SEQUENCE:3
DTSTAMP:20260419T132220Z
URL:https://business.bataviachamber.org/events/details/dine-donate-07-07-2011-310
END:VEVENT

END:VCALENDAR
