BEGIN:VCALENDAR
VERSION:2.0
PRODID:-//ChamberMaster//Event Calendar 2.0//EN
METHOD:PUBLISH
X-PUBLISHED-TTL:P3D
REFRESH-INTERVAL:P3D
CALSCALE:GREGORIAN
BEGIN:VEVENT
DTSTART:20110217T060000Z
DTEND:20110217T060000Z
X-MICROSOFT-CDO-ALLDAYEVENT:FALSE
SUMMARY:Dine and Donate at The RendezVu
DESCRIPTION:As the featured charity for “Dine and Donate\,” a portion of all tips and sales from lunch (noon) through dinner (9:00 p.m.) at The RendezVu Restaurant will be donated to Batavia United Way.
X-ALT-DESC;FMTTYPE=text/html:As the featured charity for “Dine and Donate\,” a portion of all tips and sales from lunch (noon) through dinner (9:00 p.m.) at The RendezVu Restaurant will be donated to Batavia United Way.
LOCATION:The RendezVu Restaurant
UID:e.1902.159
SEQUENCE:3
DTSTAMP:20260419T212242Z
URL:https://business.bataviachamber.org/events/details/dine-and-donate-at-the-rendezvu-02-17-2011-159
END:VEVENT

END:VCALENDAR
