BEGIN:VCALENDAR
VERSION:2.0
PRODID:-//ChamberMaster//Event Calendar 2.0//EN
METHOD:PUBLISH
X-PUBLISHED-TTL:P3D
REFRESH-INTERVAL:P3D
CALSCALE:GREGORIAN
BEGIN:VEVENT
DTSTART:20110131T060000Z
DTEND:20110131T060000Z
X-MICROSOFT-CDO-ALLDAYEVENT:FALSE
SUMMARY:Depression and the Adolescent Presentation in Spanish
DESCRIPTION:TriCity Family Services presents “Depression and the Adolescent” for Spanish-speaking parents in twoparts on Monday\, January 31\, 2011 and Monday\, February 7\, 2011.  Depression is not just sadness.  Come learn the symptoms of depression and what to do when you see those signs in your adolescent.\n\nThe presentation is hosted by Batavia Apartments located at 1259 East Wilson Street in Batavia\,IL 60510.  Both presentations are from 7:30 to 8:30 PM.  There is no cost to attend.  \n\n“Depression and the Adolescent” will be presented in the Spanish language only\, by TriCity Family Services therapist\, Mercedes Cisneros-Watson\, MA\, LCPC\, BCPC.  Mercedes has worked with families with adolescents for more than 20 years in the suburbs of Chicago\, New Mexico and Arizona.  \n\nTo register\, call TriCity Family Services at 630-232-1070.
X-ALT-DESC;FMTTYPE=text/html:TriCity Family Services presents “Depression and the Adolescent” for Spanish-speaking parents in twoparts on Monday\, January 31\, 2011 and Monday\, February 7\, 2011.  Depression is not just sadness.  Come learn the symptoms of depression and what to do when you see those signs in your adolescent.\n\nThe presentation is hosted by Batavia Apartments located at 1259 East Wilson Street in Batavia\,IL 60510.  Both presentations are from 7:30 to 8:30 PM.  There is no cost to attend.  \n\n“Depression and the Adolescent” will be presented in the Spanish language only\, by TriCity Family Services therapist\, Mercedes Cisneros-Watson\, MA\, LCPC\, BCPC.  Mercedes has worked with families with adolescents for more than 20 years in the suburbs of Chicago\, New Mexico and Arizona.  \n\nTo register\, call TriCity Family Services at 630-232-1070.  \n
LOCATION:Batavia Apartments
UID:e.1902.142
SEQUENCE:3
DTSTAMP:20260419T230327Z
URL:https://business.bataviachamber.org/events/details/depression-and-the-adolescent-presentation-in-spanish-01-31-2011-142
END:VEVENT

END:VCALENDAR
