BEGIN:VCALENDAR
VERSION:2.0
PRODID:-//ChamberMaster//Event Calendar 2.0//EN
METHOD:PUBLISH
X-PUBLISHED-TTL:P3D
REFRESH-INTERVAL:P3D
CALSCALE:GREGORIAN
BEGIN:VEVENT
DTSTART:20091120T060000Z
DTEND:20091121T060000Z
X-MICROSOFT-CDO-ALLDAYEVENT:FALSE
SUMMARY:Dene Jewelry Trunk Show
DESCRIPTION:Meet award winning jewelry designer Michelle Dene and view a special collection of rare gemstones\, "runway" pieces\, engagement rings and stunning jewelry collections. Complimentary design consultations\, specials\, and refreshments. Don't miss this opportunity to meet one of the top 40 designers in the world... and a Batavia resident!
X-ALT-DESC;FMTTYPE=text/html:Meet award winning jewelry designer Michelle Dene and view a special collection of rare gemstones\, "runway" pieces\, engagement rings and stunning jewelry collections. Complimentary design consultations\, specials\, and refreshments. Don't miss this opportunity to meet one of the top 40 designers in the world... and a Batavia resident!
LOCATION:K.Hollis Jewelers
UID:e.1902.1075
SEQUENCE:3
DTSTAMP:20260420T232022Z
URL:https://business.bataviachamber.org/events/details/dene-jewelry-trunk-show-11-20-2009-1075
END:VEVENT

END:VCALENDAR
