BEGIN:VCALENDAR
VERSION:2.0
PRODID:-//ChamberMaster//Event Calendar 2.0//EN
METHOD:PUBLISH
X-PUBLISHED-TTL:P3D
REFRESH-INTERVAL:P3D
CALSCALE:GREGORIAN
BEGIN:VEVENT
DTSTART:20170525T233000Z
DTEND:20170526T003000Z
X-MICROSOFT-CDO-ALLDAYEVENT:FALSE
SUMMARY:Dave & Daphne to perform at The Holmstad
DESCRIPTION:Entertainers Dave & Daphne will entertain guests on Thursday\, May 25\, 2017 at 6:30 p.m. in the auditorium at The Holmstad\, 700 W. Fabyan Parkway\, Batavia. Guitarist Dave Salyer and vocalist Daphne Anderson perform classic country\, Broadway\, pop songs\, southern gospel\, jazz and blues. Reservations are recommended but not required. To save a spot for this free performance\, call 877-226-7310 or visit www.TheHolmstad.org/events. The Holmstad is a faith-based\, not-for-profit\, continuing care retirement community.
X-ALT-DESC;FMTTYPE=text/html:Entertainers Dave &amp\; Daphne will entertain guests on Thursday\, May 25\, 2017 at 6:30 p.m. in the auditorium at The Holmstad\, 700 W. Fabyan Parkway\, Batavia. Guitarist Dave Salyer and vocalist Daphne Anderson perform classic country\, Broadway\, pop songs\, southern gospel\, jazz and blues. Reservations are recommended but not required. To save a spot for this free performance\, call 877-226-7310 or visit www.TheHolmstad.org/events. The Holmstad is a faith-based\, not-for-profit\, continuing care retirement community.
LOCATION:The Holmstad 700 W. Fabyan Parkway\, Batavia
UID:e.1902.6620
SEQUENCE:3
DTSTAMP:20260425T113315Z
URL:https://business.bataviachamber.org/events/details/dave-daphne-to-perform-at-the-holmstad-6620
END:VEVENT

END:VCALENDAR
