BEGIN:VCALENDAR
VERSION:2.0
PRODID:-//ChamberMaster//Event Calendar 2.0//EN
METHOD:PUBLISH
X-PUBLISHED-TTL:P3D
REFRESH-INTERVAL:P3D
CALSCALE:GREGORIAN
BEGIN:VEVENT
DTSTART:20180424T230000Z
DTEND:20180425T000000Z
X-MICROSOFT-CDO-ALLDAYEVENT:FALSE
SUMMARY:Dating Photography Through Clothing: Preservation Week Event
DESCRIPTION:Using clues from clothing and hairstyles\, learn how to date photographs like the experts! This is an informative and interactive program. If you have your own photographs you would like more information on (up to 3)\, you may scan and email those to Jennifer at jenniferp@bataviaparks.org to be discussed during the workshop. Bringing photo examples to this program is also acceptable.
X-ALT-DESC;FMTTYPE=text/html:Using clues from clothing and hairstyles\, learn how to date photographs like the experts! This is an informative and interactive program. If you have your own photographs you would like more information on (up to 3)\, you may scan and email those to Jennifer at jenniferp@bataviaparks.org to be discussed during the workshop. Bringing photo examples to this program is also acceptable.
LOCATION:Lodge at Laurelwood\, 800 N. River Street\, Batavia
UID:e.1902.8960
SEQUENCE:3
DTSTAMP:20260424T173328Z
URL:https://business.bataviachamber.org/events/details/dating-photography-through-clothing-preservation-week-event-8960
END:VEVENT

END:VCALENDAR
