BEGIN:VCALENDAR
VERSION:2.0
PRODID:-//ChamberMaster//Event Calendar 2.0//EN
METHOD:PUBLISH
X-PUBLISHED-TTL:P3D
REFRESH-INTERVAL:P3D
CALSCALE:GREGORIAN
BEGIN:VEVENT
DTSTART:20091002T050000Z
DTEND:20091002T050000Z
X-MICROSOFT-CDO-ALLDAYEVENT:FALSE
SUMMARY:Dancing With the Stars\, Act IV: Hollywood
DESCRIPTION:Join us for a lively evening of dance\, competition and fabulous food. Local professional choreographers will be paired with community stars to dance Hollywood style.  Special guest Erin O'Connor\, MissIllinois 2009 will perform and greet guests. Gourmet hors d'oeuvres\, carvery stations\, desserts andcash bar.  Silent auction ongoing.  \nProceeds to benefit Provena Fox Knoll and Provena McAuley Manor\, not for profit senior communities.
X-ALT-DESC;FMTTYPE=text/html:Join us for a lively evening of dance\, competition and fabulous food. Local professional choreographers will be paired with community stars to dance Hollywood style.  Special guest Erin O'Connor\, MissIllinois 2009 will perform and greet guests. Gourmet hors d'oeuvres\, carvery stations\, desserts andcash bar.  Silent auction ongoing.  \nProceeds to benefit Provena Fox Knoll and Provena McAuley Manor\, not for profit senior communities.
LOCATION:Pipers Hall
UID:e.1902.997
SEQUENCE:3
DTSTAMP:20260421T011306Z
URL:https://business.bataviachamber.org/events/details/dancing-with-the-stars-act-iv-hollywood-10-02-2009-997
END:VEVENT

END:VCALENDAR
