BEGIN:VCALENDAR
VERSION:2.0
PRODID:-//ChamberMaster//Event Calendar 2.0//EN
METHOD:PUBLISH
X-PUBLISHED-TTL:P3D
REFRESH-INTERVAL:P3D
CALSCALE:GREGORIAN
BEGIN:VEVENT
DTSTART:20090208T060000Z
DTEND:20090208T060000Z
X-MICROSOFT-CDO-ALLDAYEVENT:FALSE
SUMMARY:Daddy Daughter Date Night
DESCRIPTION:Dads are invited to dance the night away with their daughter(s) at Daddy Daughter Date Night sponsored by the Batavia Park District. The evening will include dancing\, dessert\, entertainment\, games andmore. Each couple will receive a photo.
X-ALT-DESC;FMTTYPE=text/html:Dads are invited to dance the night away with their daughter(s) at Daddy Daughter Date Night sponsored by the Batavia Park District. The evening will include dancing\, dessert\, entertainment\, games andmore. Each couple will receive a photo.
LOCATION:Rotolo Middle School
UID:e.1902.821
SEQUENCE:3
DTSTAMP:20260421T162635Z
URL:https://business.bataviachamber.org/events/details/daddy-daughter-date-night-02-08-2009-821
END:VEVENT

END:VCALENDAR
