BEGIN:VCALENDAR
VERSION:2.0
PRODID:-//ChamberMaster//Event Calendar 2.0//EN
METHOD:PUBLISH
X-PUBLISHED-TTL:P3D
REFRESH-INTERVAL:P3D
CALSCALE:GREGORIAN
BEGIN:VEVENT
DTSTART;VALUE=DATE:20081212
DTEND;VALUE=DATE:20081220
TRANSP:TRANSPARENT
X-MICROSOFT-CDO-ALLDAYEVENT:TRUE
SUMMARY:Curves Toy Collection for the ACCESS Toy Committee
DESCRIPTION:Cuves is collecting toys for Christmas for over 300 area children for the Batavia ACCESS Toy Committee.  If anyone would like to make a donation\, they can drop off an unwrapped\, new toy at Curves\, 833 E. Wilson\, Batavia  (630-406-0876) by December 19th. In addition they are giving the gift of health--donating five\, one year Gift Memberships and five\, Curves Fitness Bags (including One Month Free) to local area women. Anyone can register to WIN at one of the following locations: Gibby's Wine Den1772 S. Randall Rd.Geneva American Cancer Society143 First St.Batavia Brinka Family Chiropractic1049 E. WilsonBatavia Limestone Coffee & Tea15 E. WilsonBatavia Zano Salon & Spa2016 E. WilsonBatavia Drawings will be held on Monday\, December 29th at each of the businesses.
X-ALT-DESC;FMTTYPE=text/html:<DIV style="FONT-FAMILY: Arial" align=left><FONT face="Times New Roman"><P class=MsoNormal style="MARGIN: 0in 0in 0pt" align=left><FONT face="Times New Roman">Cuves is collecting toys for Christmas for over 300 area children for the Batavia ACCESS Toy Committee.&nbsp\; If anyone would like to make a donation\, they can drop off an unwrapped\, new toy at Curves\, 833 E. <?xml:namespace prefix = st1 ns = "urn:schemas-microsoft-com:office:smarttags" /><st1:City w:st="on">Wilson</st1:City>\, <st1:City w:st="on"><st1:place w:st="on">Batavia</st1:place></st1:City>&nbsp\; (630-406-0876) by December 19th.</FONT></P><P class=MsoNormal style="MARGIN: 0in 0in 0pt" align=left><FONT face="Times New Roman"><?xml:namespace prefix = o ns = "urn:schemas-microsoft-com:office:office" /><o:p></o:p></FONT>&nbsp\;</P><P class=MsoNormal style="MARGIN: 0in 0in 0pt" align=left>In addition they are giving the gift of health--donating five\, one year Gift Memberships and five\, Curves Fitness Bags (including One Month Free) to local area women. Anyone can register to WIN at one of the following locations:<o:p></o:p></FONT></P><P class=MsoNormal style="MARGIN: 0in 0in 0pt" align=left><FONT face="Times New Roman">&nbsp\;<o:p></o:p></FONT></P><P class=MsoNormal style="MARGIN: 0in 0in 0pt" align=left><FONT face="Times New Roman">Gibby's Wine Den<o:p></o:p></FONT></P><P class=MsoNormal style="MARGIN: 0in 0in 0pt" align=left><FONT face="Times New Roman"><st1:Street w:st="on"><st1:address w:st="on">1772 S. Randall Rd.</st1:address></st1:Street><o:p></o:p></FONT></P><P class=MsoNormal style="MARGIN: 0in 0in 0pt" align=left><FONT face="Times New Roman"><st1:City w:st="on"><st1:place w:st="on">Geneva</st1:place></st1:City><o:p></o:p></FONT></P><P class=MsoNormal style="MARGIN: 0in 0in 0pt" align=left><FONT face="Times New Roman">&nbsp\;<o:p></o:p></FONT></P><P class=MsoNormal style="MARGIN: 0in 0in 0pt" align=left><FONT face="Times New Roman">American Cancer Society<o:p></o:p></FONT></P><P class=MsoNormal style="MARGIN: 0in 0in 0pt" align=left><FONT face="Times New Roman">143 <st1:Street w:st="on"><st1:address w:st="on">First St</st1:address></st1:Street>.<o:p></o:p></FONT></P><P class=MsoNormal style="MARGIN: 0in 0in 0pt" align=left><FONT face="Times New Roman"><st1:City w:st="on"><st1:place w:st="on">Batavia</st1:place></st1:City><o:p></o:p></FONT></P><P class=MsoNormal style="MARGIN: 0in 0in 0pt" align=left><FONT face="Times New Roman">&nbsp\;<o:p></o:p></FONT></P><P class=MsoNormal style="MARGIN: 0in 0in 0pt" align=left><FONT face="Times New Roman">Brinka Family Chiropractic<o:p></o:p></FONT></P><P class=MsoNormal style="MARGIN: 0in 0in 0pt" align=left><FONT face="Times New Roman">1049 <st1:place w:st="on">E. Wilson</st1:place><o:p></o:p></FONT></P><P class=MsoNormal style="MARGIN: 0in 0in 0pt" align=left><FONT face="Times New Roman"><st1:City w:st="on"><st1:place w:st="on">Batavia</st1:place></st1:City><o:p></o:p></FONT></P><P class=MsoNormal style="MARGIN: 0in 0in 0pt" align=left><FONT face="Times New Roman">&nbsp\;<o:p></o:p></FONT></P><P class=MsoNormal style="MARGIN: 0in 0in 0pt" align=left><FONT face="Times New Roman">Limestone Coffee &amp\; Tea<o:p></o:p></FONT></P><P class=MsoNormal style="MARGIN: 0in 0in 0pt" align=left><FONT face="Times New Roman">15 E. <st1:City w:st="on"><st1:place w:st="on">Wilson</st1:place></st1:City><o:p></o:p></FONT></P><P class=MsoNormal style="MARGIN: 0in 0in 0pt" align=left><FONT face="Times New Roman"><st1:City w:st="on"><st1:place w:st="on">Batavia</st1:place></st1:City><o:p></o:p></FONT></P><P class=MsoNormal style="MARGIN: 0in 0in 0pt" align=left><FONT face="Times New Roman">&nbsp\;<o:p></o:p></FONT></P><P class=MsoNormal style="MARGIN: 0in 0in 0pt" align=left><FONT face="Times New Roman">Zano Salon &amp\; Spa<o:p></o:p></FONT></P><P class=MsoNormal style="MARGIN: 0in 0in 0pt" align=left><FONT face="Times New Roman">2016 <st1:place w:st="on">E. Wilson</st1:place><o:p></o:p></FONT></P><P class=MsoNormal style="MARGIN: 0in 0in 0pt" align=left><FONT face="Times New Roman"><st1:City w:st="on"><st1:place w:st="on">Batavia</st1:place></st1:City><o:p></o:p></FONT></P><P class=MsoNormal style="MARGIN: 0in 0in 0pt" align=left><FONT face="Times New Roman">&nbsp\;<o:p></o:p></FONT></P><P class=MsoNormal style="MARGIN: 0in 0in 0pt" align=left><FONT face="Times New Roman">Drawings will be held on Monday\, December 29th at each of the businesses.<o:p></o:p></FONT></P><P class=MsoNormal style="MARGIN: 0in 0in 0pt"><FONT face="Times New Roman">&nbsp\;&nbsp\;<o:p></o:p></FONT></P></DIV>
LOCATION:Curves
UID:e.1902.1615
SEQUENCE:3
DTSTAMP:20260421T194840Z
URL:https://business.bataviachamber.org/events/details/curves-toy-collection-for-the-access-toy-committee-12-12-2008-1615
END:VEVENT

END:VCALENDAR
