BEGIN:VCALENDAR
VERSION:2.0
PRODID:-//ChamberMaster//Event Calendar 2.0//EN
METHOD:PUBLISH
X-PUBLISHED-TTL:P3D
REFRESH-INTERVAL:P3D
CALSCALE:GREGORIAN
BEGIN:VEVENT
DTSTART:20080913T130000Z
DTEND:20080913T160000Z
X-MICROSOFT-CDO-ALLDAYEVENT:FALSE
SUMMARY:Curves of Batavia Open House
DESCRIPTION:We want to meet you and your fitness goals! Join us for refreshments\, door prizes\, free chair massages\, free make-overs and a free gift!
X-ALT-DESC;FMTTYPE=text/html:We want to meet you and your fitness goals! Join us for refreshments\, door prizes\, free chair massages\, free make-overs and a free gift!
LOCATION:Curves of Batavia
UID:e.1902.1574
SEQUENCE:3
DTSTAMP:20260422T005655Z
URL:https://business.bataviachamber.org/events/details/curves-of-batavia-open-house-09-13-2008-1574
END:VEVENT

END:VCALENDAR
