BEGIN:VCALENDAR
VERSION:2.0
PRODID:-//ChamberMaster//Event Calendar 2.0//EN
METHOD:PUBLISH
X-PUBLISHED-TTL:P3D
REFRESH-INTERVAL:P3D
CALSCALE:GREGORIAN
BEGIN:VEVENT
DTSTART:20081011T120000Z
DTEND:20081011T160000Z
X-MICROSOFT-CDO-ALLDAYEVENT:FALSE
SUMMARY:Curves Encourages Breast Cancer Awareness
DESCRIPTION:As the leading fitness franchise for women\, Curves would like to make women more conscious of their bodies and the dangers of breast cancer by making October Breast Cancer Awareness Month. Four times throughout the month\, women can come into Curves to receive a free fitness assessment and breast self-exam kit. From 7 – 11 am on Oct. 4\, 11\, 18 & 25\, come take advantage of this great offer. It never hurts to check up on your body!
X-ALT-DESC;FMTTYPE=text/html:<P align=left>As the leading fitness franchise for women\, Curves would like to make women more conscious of their bodies and the dangers of breast cancer by making October Breast Cancer Awareness Month. Four times throughout the month\, women can come into Curves to receive a free fitness assessment and breast self-exam kit. From 7 – 11 am on Oct. 4\, 11\, 18 &amp\; 25\, come take advantage of this great offer. It never hurts to check up on your body! </P>
LOCATION:Curves of Batavia
UID:e.1902.1586
SEQUENCE:3
DTSTAMP:20260421T230631Z
URL:https://business.bataviachamber.org/events/details/curves-encourages-breast-cancer-awareness-10-11-2008-1586
END:VEVENT

END:VCALENDAR
