BEGIN:VCALENDAR
VERSION:2.0
PRODID:-//ChamberMaster//Event Calendar 2.0//EN
METHOD:PUBLISH
X-PUBLISHED-TTL:P3D
REFRESH-INTERVAL:P3D
CALSCALE:GREGORIAN
BEGIN:VEVENT
DTSTART:20110217T140000Z
DTEND:20110217T153000Z
X-MICROSOFT-CDO-ALLDAYEVENT:FALSE
SUMMARY:Current Realities of Entrepreneurship & Small Business in America
DESCRIPTION:The Batavia Chamber of Commerce is delighted to have Raman Chadha\, Executive Director & Clinical Professor at the DePaul University Coleman Entrepreneurship Center\, join us on February 17. Raman will share his insights regarding myths and realities of entrepreneurship and small business in America\, and what lies ahead for this driving economic force as a result of the past three years. Come with an open mind and your best questions\, so we can help all of our members strengthen their customer base and their bottom line.
X-ALT-DESC;FMTTYPE=text/html:<P align=left><FONT face=Arial size=4>The Batavia Chamber of Commerce is delighted to have Raman Chadha\, Executive Director &amp\; Clinical Professor at the DePaul University Coleman Entrepreneurship Center\, join us on February 17. </FONT></P><P align=left><FONT face=Arial size=4>Raman will share his insights regarding myths and realities of entrepreneurship and small business in America\, and what lies ahead for this driving economic force as a result of the past three years. Come with an open mind and your best questions\, so we can help all of our members strengthen their customer base and their bottom line.</FONT></P>
LOCATION:Interiors for Business\, Inc.
UID:e.1902.1837
SEQUENCE:3
DTSTAMP:20260419T212620Z
URL:https://business.bataviachamber.org/events/details/current-realities-of-entrepreneurship-small-business-in-america-02-17-2011-1837
END:VEVENT

END:VCALENDAR
