BEGIN:VCALENDAR
VERSION:2.0
PRODID:-//ChamberMaster//Event Calendar 2.0//EN
METHOD:PUBLISH
X-PUBLISHED-TTL:P3D
REFRESH-INTERVAL:P3D
CALSCALE:GREGORIAN
BEGIN:VEVENT
DTSTART:20110610T050000Z
DTEND:20110610T050000Z
X-MICROSOFT-CDO-ALLDAYEVENT:FALSE
SUMMARY:Cruise Night Car Show
DESCRIPTION:Alden of Waterford Senior Living Community Cruise Night Car Show Friday\, June 10\, 2011 4-8 pm. Checkout the variety of classic cards\, enjoy free popcorn\, wine tasting\, and a special gift for the first 100 attendees. Food will be available for purchase. (Proceeds will benefit The Leukemia Reserach Foundation)
X-ALT-DESC;FMTTYPE=text/html:Alden of Waterford Senior Living Community Cruise Night Car Show Friday\, June 10\, 2011 4-8 pm. Checkout the variety of classic cards\, enjoy free popcorn\, wine tasting\, and a special gift for the first 100 attendees. Food will be available for purchase. (Proceeds will benefit The Leukemia Reserach Foundation)
LOCATION:Alden of Waterford
UID:e.1902.248
SEQUENCE:3
DTSTAMP:20260419T163526Z
URL:https://business.bataviachamber.org/events/details/cruise-night-car-show-06-10-2011-248
END:VEVENT

END:VCALENDAR
