BEGIN:VCALENDAR
VERSION:2.0
PRODID:-//ChamberMaster//Event Calendar 2.0//EN
METHOD:PUBLISH
X-PUBLISHED-TTL:P3D
REFRESH-INTERVAL:P3D
CALSCALE:GREGORIAN
BEGIN:VEVENT
DTSTART:20180625T140000Z
DTEND:20180629T180000Z
X-MICROSOFT-CDO-ALLDAYEVENT:FALSE
SUMMARY:Critter Camp for Kids Ages 6-10 – Anderson Animal Shelter
DESCRIPTION:Campers will spend the week engaged in arts and crafts\, games and activities all centered around responsible pet ownership and animal welfare. Lots of hands-on time with the shelter animals! \n\nAges 6-10\n\nhttp://www.events.org/crittercamp
X-ALT-DESC;FMTTYPE=text/html:<span style="color:#333333"><span style="font-family:arial\,sans-serif"><span style="font-size:10.0pt">Campers will spend the week engaged in arts and crafts\, games and activities all centered around responsible pet ownership and animal welfare. Lots of hands-on time with the shelter animals!&nbsp\;</span></span></span><br />\n<span style="color:#333333"><span style="font-family:arial\,sans-serif"><span style="font-size:10.0pt">Ages 6-10</span></span></span><br />\n<span style="font-family:calibri\,sans-serif"><span style="font-size:11.0pt"><a href="http://www.events.org/crittercamp"><span style="color:#0782C1"><span style="font-family:arial\,sans-serif"><span style="font-size:10.0pt">http://www.events.org/crittercamp</span></span></span></a></span></span><br />\n<br />\n&nbsp\;
LOCATION:Anderson Animal Shelter 1000 S La Fox Street South Elgin\, IL 60177
UID:e.1902.8974
SEQUENCE:3
DTSTAMP:20260424T135625Z
URL:https://business.bataviachamber.org/events/details/critter-camp-for-kids-ages-6-10-anderson-animal-shelter-06-25-2018-8974
END:VEVENT

END:VCALENDAR
