BEGIN:VCALENDAR
VERSION:2.0
PRODID:-//ChamberMaster//Event Calendar 2.0//EN
METHOD:PUBLISH
X-PUBLISHED-TTL:P3D
REFRESH-INTERVAL:P3D
CALSCALE:GREGORIAN
BEGIN:VEVENT
DTSTART:20100907T050000Z
DTEND:20100907T050000Z
X-MICROSOFT-CDO-ALLDAYEVENT:FALSE
SUMMARY:Credentials and Scholarships for Early Childhood Educators
DESCRIPTION:Do you have a passion to teach\nin early childhood education?\n\nDo you understand the credentials\nrequired to teach?\n\nAre you curious about possible scholarships available in the field of earlychildhood education?\n\nPlease join us Tuesday\, Sept. 7 for a presentation by Mark Obuchowski\, the INCCRRA (Illinois Network of Child Care Resource and Referral Agencies) event coordinator\, to learn about available scholarships and the importance of credentials in this in-demand field!
X-ALT-DESC;FMTTYPE=text/html:Do you have a passion to teach\nin early childhood education?\n\nDo you understand the credentials\nrequired to teach?\n\nAre you curious about possible scholarships available in the field of earlychildhood education?\n\nPlease join us Tuesday\, Sept. 7 for a presentation by Mark Obuchowski\, the INCCRRA (Illinois Network of Child Care Resource and Referral Agencies) event coordinator\, to learn about available scholarships and the importance of credentials in this in-demand field!\n
LOCATION:Rasmussen College
UID:e.1902.33
SEQUENCE:3
DTSTAMP:20260420T061042Z
URL:https://business.bataviachamber.org/events/details/credentials-and-scholarships-for-early-childhood-educators-09-07-2010-33
END:VEVENT

END:VCALENDAR
