BEGIN:VCALENDAR
VERSION:2.0
PRODID:-//ChamberMaster//Event Calendar 2.0//EN
METHOD:PUBLISH
X-PUBLISHED-TTL:P3D
REFRESH-INTERVAL:P3D
CALSCALE:GREGORIAN
BEGIN:VEVENT
DTSTART:20091114T060000Z
DTEND:20091114T060000Z
X-MICROSOFT-CDO-ALLDAYEVENT:FALSE
SUMMARY:Craft & VEndor Fair
DESCRIPTION:The public is invited to a craft & vendor fair to be held at Heritage Woods of Batavia.
X-ALT-DESC;FMTTYPE=text/html:The public is invited to a craft & vendor fair to be held at Heritage Woods of Batavia.
LOCATION:Heritage Woods of Batavia
UID:e.1902.1074
SEQUENCE:3
DTSTAMP:20260420T231840Z
URL:https://business.bataviachamber.org/events/details/craft-vendor-fair-11-14-2009-1074
END:VEVENT

END:VCALENDAR
