BEGIN:VCALENDAR
VERSION:2.0
PRODID:-//ChamberMaster//Event Calendar 2.0//EN
METHOD:PUBLISH
X-PUBLISHED-TTL:P3D
REFRESH-INTERVAL:P3D
CALSCALE:GREGORIAN
BEGIN:VEVENT
DTSTART:20090309T050000Z
DTEND:20090309T050000Z
X-MICROSOFT-CDO-ALLDAYEVENT:FALSE
SUMMARY:CPR Training Days
DESCRIPTION:Get certified in CPR for only $9! A savings of $36. Available to the general community and hosted atthe Fox Valley Girl Scouts Council. Register by calling 1-800-33-SAFETY (1-800-337-2338) or email lisad@fvgsc.org. Capacity of 14 - register early!
X-ALT-DESC;FMTTYPE=text/html:Get certified in CPR for only $9! A savings of $36. Available to the general community and hosted atthe Fox Valley Girl Scouts Council. Register by calling 1-800-33-SAFETY (1-800-337-2338) or email lisad@fvgsc.org. Capacity of 14 - register early!
LOCATION:Fox Valley Girl Scouts Council
UID:e.1902.880
SEQUENCE:3
DTSTAMP:20260421T143429Z
URL:https://business.bataviachamber.org/events/details/cpr-training-days-03-09-2009-880
END:VEVENT

END:VCALENDAR
