BEGIN:VCALENDAR
VERSION:2.0
PRODID:-//ChamberMaster//Event Calendar 2.0//EN
METHOD:PUBLISH
X-PUBLISHED-TTL:P3D
REFRESH-INTERVAL:P3D
CALSCALE:GREGORIAN
BEGIN:VEVENT
DTSTART:20110212T060000Z
DTEND:20110212T060000Z
X-MICROSOFT-CDO-ALLDAYEVENT:FALSE
SUMMARY:Cookie Decorating
DESCRIPTION:Join us for cookie decorating at Panera Bread in Batavia! Purchase a shortbread cookie to participate. \n\nDuring this season of love\, share the sweetest gesture: a freshly baked treat decorated by you. For a limited time only\, from January 31 until February 13\, Panera Bread will donate 10 cents forevery Valentine Cookie sold to Make-A-Wish.
X-ALT-DESC;FMTTYPE=text/html:Join us for cookie decorating at Panera Bread in Batavia! Purchase a shortbread cookie to participate. \n\nDuring this season of love\, share the sweetest gesture: a freshly baked treat decorated by you. For a limited time only\, from January 31 until February 13\, Panera Bread will donate 10 cents forevery Valentine Cookie sold to Make-A-Wish.\n
LOCATION:Panera Bread
UID:e.1902.145
SEQUENCE:3
DTSTAMP:20260419T211749Z
URL:https://business.bataviachamber.org/events/details/cookie-decorating-02-12-2011-145
END:VEVENT

END:VCALENDAR
