BEGIN:VCALENDAR
VERSION:2.0
PRODID:-//ChamberMaster//Event Calendar 2.0//EN
METHOD:PUBLISH
X-PUBLISHED-TTL:P3D
REFRESH-INTERVAL:P3D
CALSCALE:GREGORIAN
BEGIN:VEVENT
DTSTART:20110414T050000Z
DTEND:20110414T050000Z
X-MICROSOFT-CDO-ALLDAYEVENT:FALSE
SUMMARY:Conservation @ Home & Rain Barrels
DESCRIPTION:The Conservation Foundation will be presenting their Conservation @ Home program and having a discussion about Rain Barrels and Rain Gardens at City Hall in the Council Chambers on Thursday\, April 14th at 7pm.Please come and join us to learn more about rain barrels and what makes a rain garden as well as how to certify your home with Conservation @ Home. After our presentation you can place a rain barrel order with the presenter\, Jim Kleinwachter\, from the Conservation Foundation. If you cannot attend\, but are still interested in ordering a rain barrel please\, visit the Conservation Foundation's webpage before April 22\, 2011 to order.    Rain Barrels are available in black\, blue\, grey and terra cotta and are $76 each. If you have any questions about the program please contact Andrea Rattray in the Engineering Department at arattray@cityofbatavia.net. If you have questions about the Conservation Foundation please contact Jim Kleinwachter at jkleinwachter@theconservationfoundation.org.
X-ALT-DESC;FMTTYPE=text/html:<SPAN class=Apple-style-span style="WORD-SPACING: 0px\; FONT: medium 'Times New Roman'\; TEXT-TRANSFORM: none\; COLOR: rgb(0\,0\,0)\; TEXT-INDENT: 0px\; WHITE-SPACE: normal\; LETTER-SPACING: normal\; BORDER-COLLAPSE: separate\; orphans: 2\; widows: 2\; -webkit-border-horizontal-spacing: 0px\; -webkit-border-vertical-spacing: 0px\; -webkit-text-decorations-in-effect: none\; -webkit-text-size-adjust: auto\; -webkit-text-stroke-width: 0px"><SPAN class=Apple-style-span style="FONT-SIZE: 13px\; FONT-FAMILY: arial\, sans-serif\; BORDER-COLLAPSE: collapse"><P style="MARGIN: 0in 0in 10pt\; FONT-FAMILY: Arial" align=left><FONT size=4>The<SPAN class=Apple-converted-space>&nbsp\;</SPAN><A style="COLOR: rgb(0\,0\,204)" href="http://www.theconservationfoundation.org/" target=_blank>Conservation Foundation</A><SPAN class=Apple-converted-space>&nbsp\;</SPAN>will be presenting their<SPAN class=Apple-converted-space>&nbsp\;</SPAN><A style="COLOR: rgb(0\,0\,204)" href="http://www.theconservationfoundation.org/index.php?option=com_content&amp\;view=article&amp\;id=323&amp\;Itemid=48" target=_blank>Conservation @ Home</A><SPAN class=Apple-converted-space>&nbsp\;</SPAN>program and having a discussion about<SPAN class=Apple-converted-space>&nbsp\;</SPAN><A style="COLOR: rgb(0\,0\,204)" href="http://www.theconservationfoundation.org/index.php?option=com_content&amp\;view=article&amp\;id=247&amp\;Itemid=200106" target=_blank>Rain Barrels</A><SPAN class=Apple-converted-space>&nbsp\;</SPAN>and<SPAN class=Apple-converted-space>&nbsp\;</SPAN><A style="COLOR: rgb(0\,0\,204)" href="http://www.theconservationfoundation.org/index.php?option=com_content&amp\;view=article&amp\;id=249&amp\;Itemid=200042" target=_blank>Rain Gardens</A><SPAN class=Apple-converted-space>&nbsp\;</SPAN>at City Hall in the Council Chambers on Thursday\, April 14th at 7pm.</FONT></P><DIV style="MARGIN: 0in 0in 10pt\; FONT-FAMILY: Arial" align=left><FONT size=4>Please come and join us to learn more about rain barrels and what makes a rain garden as well as how to certify your home with Conservation @ Home.&nbsp\;</FONT></DIV><DIV style="MARGIN: 0in 0in 10pt\; FONT-FAMILY: Arial" align=left><FONT size=4>After our presentation you can place a rain barrel order with the presenter\, Jim Kleinwachter\, from the Conservation Foundation.&nbsp\;If you cannot attend\, but are still&nbsp\;interested in ordering a rain barrel please\, visit the<SPAN class=Apple-converted-space>&nbsp\;</SPAN><A style="COLOR: rgb(0\,0\,204)" href="http://upcycle-products.com/static.asp?path=4151" target=_blank>Conservation Foundation's webpage</A><SPAN class=Apple-converted-space>&nbsp\;</SPAN>before April 22\, 2011 to order.&nbsp\;&nbsp\;&nbsp\;&nbsp\;</FONT></DIV><DIV style="MARGIN: 0in 0in 10pt\; FONT-FAMILY: Arial" align=left><FONT size=4>Rain Barrels are available in black\, blue\, grey and terra cotta and are $76 each.&nbsp\;</FONT><FONT size=4>If you have any questions about the program please contact Andrea Rattray in the Engineering Department at <A style="COLOR: rgb(0\,0\,204)" href="mailto:arattray@cityofbatavia.net" target=_blank>arattray@cityofbatavia.net</A>.&nbsp\;</FONT></DIV><P style="MARGIN: 0in 0in 10pt\; FONT-FAMILY: Arial" align=left><FONT size=4>If you have questions about the Conservation Foundation please contact Jim Kleinwachter at </FONT><A style="COLOR: rgb(0\,0\,204)" href="mailto:jkleinwachter@theconservationfoundation.org" target=_blank><FONT size=4>jkleinwachter@<WBR>theconservationfoundation.org</FONT></A>.</P></SPAN></SPAN>
LOCATION:City Hall
UID:e.1902.203
SEQUENCE:3
DTSTAMP:20260419T180504Z
URL:https://business.bataviachamber.org/events/details/conservation-home-rain-barrels-04-14-2011-203
END:VEVENT

END:VCALENDAR
