BEGIN:VCALENDAR
VERSION:2.0
PRODID:-//ChamberMaster//Event Calendar 2.0//EN
METHOD:PUBLISH
X-PUBLISHED-TTL:P3D
REFRESH-INTERVAL:P3D
CALSCALE:GREGORIAN
BEGIN:VEVENT
DTSTART:20091001T050000Z
DTEND:20091001T050000Z
X-MICROSOFT-CDO-ALLDAYEVENT:FALSE
SUMMARY:Concert Between Courses at Niche Restaurant
DESCRIPTION:Niche Restaurant invites all to quaint Geneva for a relaxing night out to experience two of life’s greatest delights - food and music - in one unforgettable evening. On October 1st\, Niche will presenta delicious three course meal including a selection of seasonal entrees utilizing the freshest of local produce\, alongside a concert showcasing some of the most talented local musicians! \n\nThe Concert Between Courses Soprano/Piano Duo on October 1st will feature pianist Larry Dieffenbach\, a distinguished local piano teacher\, musical director and college instructor\, accompanied by soprano Michelle Areyzaga\, known for her vocal diversity\, showcased in countless opera theatres\, on public television and on her CD The Sun Is Love. As part of their concert\, they’ll even debut pieces from The Promised Land\, providing guests with a sneak preview of its world premiere next year!\n\nMake your reservation and head to Niche Restaurant for a relaxing night out to enjoy some of life’s sweetest pleasures – great music and great food!
X-ALT-DESC;FMTTYPE=text/html:Niche Restaurant invites all to quaint Geneva for a relaxing night out to experience two of life’s greatest delights - food and music - in one unforgettable evening. On October 1st\, Niche will presenta delicious three course meal including a selection of seasonal entrees utilizing the freshest of local produce\, alongside a concert showcasing some of the most talented local musicians! \n\nThe Concert Between Courses Soprano/Piano Duo on October 1st will feature pianist Larry Dieffenbach\, a distinguished local piano teacher\, musical director and college instructor\, accompanied by soprano Michelle Areyzaga\, known for her vocal diversity\, showcased in countless opera theatres\, on public television and on her CD The Sun Is Love. As part of their concert\, they’ll even debut pieces from The Promised Land\, providing guests with a sneak preview of its world premiere next year!\n\nMake your reservation and head to Niche Restaurant for a relaxing night out to enjoy some of life’s sweetest pleasures – great music and great food!\n
LOCATION:Niche Restaurant
UID:e.1902.1014
SEQUENCE:3
DTSTAMP:20260424T220140Z
URL:https://business.bataviachamber.org/events/details/concert-between-courses-at-niche-restaurant-10-01-2009-1014
END:VEVENT

END:VCALENDAR
