BEGIN:VCALENDAR
VERSION:2.0
PRODID:-//ChamberMaster//Event Calendar 2.0//EN
METHOD:PUBLISH
X-PUBLISHED-TTL:P3D
REFRESH-INTERVAL:P3D
CALSCALE:GREGORIAN
BEGIN:VEVENT
DTSTART:20091126T060000Z
DTEND:20091126T060000Z
X-MICROSOFT-CDO-ALLDAYEVENT:FALSE
SUMMARY:Community Thanksgiving Feast
DESCRIPTION:A community wide (serving all the Lazarus House service areas\, Batavia\, Geneva\, St. Charles\, and Western rural Kane Co.) family style\, potluck bountiful buffet dinner.  An opportunity to share Thanksgiving dinner with the Lazarus House family of staff\, guests\, volunteers and all those wishing to share Thanksgiving fellowship.  All are welcome to bring a dish to share or just come to be apart of this special day of "Thanks".
X-ALT-DESC;FMTTYPE=text/html:A community wide (serving all the Lazarus House service areas\, Batavia\, Geneva\, St. Charles\, and Western rural Kane Co.) family style\, potluck bountiful buffet dinner.  An opportunity to share Thanksgiving dinner with the Lazarus House family of staff\, guests\, volunteers and all those wishing to share Thanksgiving fellowship.  All are welcome to bring a dish to share or just come to be apart of this special day of "Thanks".
LOCATION:St. Charles Salvation Army
UID:e.1902.1063
SEQUENCE:3
DTSTAMP:20260420T231745Z
URL:https://business.bataviachamber.org/events/details/community-thanksgiving-feast-11-26-2009-1063
END:VEVENT

END:VCALENDAR
